BEGIN:VCALENDAR
VERSION:2.0
PRODID:-//Mt. Vernon SDA Church - ECPv6.15.20//NONSGML v1.0//EN
CALSCALE:GREGORIAN
METHOD:PUBLISH
X-ORIGINAL-URL:https://mtvernonsda.org
X-WR-CALDESC:Events for Mt. Vernon SDA Church
REFRESH-INTERVAL;VALUE=DURATION:PT1H
X-Robots-Tag:noindex
X-PUBLISHED-TTL:PT1H
BEGIN:VTIMEZONE
TZID:America/New_York
BEGIN:DAYLIGHT
TZOFFSETFROM:-0500
TZOFFSETTO:-0400
TZNAME:EDT
DTSTART:20250309T070000
END:DAYLIGHT
BEGIN:STANDARD
TZOFFSETFROM:-0400
TZOFFSETTO:-0500
TZNAME:EST
DTSTART:20251102T060000
END:STANDARD
BEGIN:DAYLIGHT
TZOFFSETFROM:-0500
TZOFFSETTO:-0400
TZNAME:EDT
DTSTART:20260308T070000
END:DAYLIGHT
BEGIN:STANDARD
TZOFFSETFROM:-0400
TZOFFSETTO:-0500
TZNAME:EST
DTSTART:20261101T060000
END:STANDARD
BEGIN:DAYLIGHT
TZOFFSETFROM:-0500
TZOFFSETTO:-0400
TZNAME:EDT
DTSTART:20270314T070000
END:DAYLIGHT
BEGIN:STANDARD
TZOFFSETFROM:-0400
TZOFFSETTO:-0500
TZNAME:EST
DTSTART:20271107T060000
END:STANDARD
END:VTIMEZONE
BEGIN:VEVENT
DTSTART;TZID=America/New_York:20260412T100000
DTEND;TZID=America/New_York:20260412T220000
DTSTAMP:20260423T133237
CREATED:20260404T032211Z
LAST-MODIFIED:20260404T032211Z
UID:10005665-1775988000-1776031200@mtvernonsda.org
SUMMARY:Auto Show
DESCRIPTION:Men’s Ministry Presents: Auto Show \nArrive at sites 10am \nMeet under American flag (11th ave/35th street) \nBring extra cash for food
URL:https://mtvernonsda.org/event/auto-show/
LOCATION:Jacob Javits Center\, 429 11th Ave\, New York\, NY\, 10001\, United States
ATTACH;FMTTYPE=image/jpeg:https://mtvernonsda.org/wp-content/uploads/IMG-20260401-WA0071.jpg
ORGANIZER;CN="Mount Vernon SDA Church":MAILTO:mtvsecretary@hotmail.com
GEO:40.7575505;-74.0024691
X-APPLE-STRUCTURED-LOCATION;VALUE=URI;X-ADDRESS=Jacob Javits Center 429 11th Ave New York NY 10001 United States;X-APPLE-RADIUS=500;X-TITLE=429 11th Ave:geo:-74.0024691,40.7575505
END:VEVENT
END:VCALENDAR