BEGIN:VCALENDAR
VERSION:2.0
PRODID:-//Mt. Vernon SDA Church - ECPv6.15.20//NONSGML v1.0//EN
CALSCALE:GREGORIAN
METHOD:PUBLISH
X-ORIGINAL-URL:https://mtvernonsda.org
X-WR-CALDESC:Events for Mt. Vernon SDA Church
REFRESH-INTERVAL;VALUE=DURATION:PT1H
X-Robots-Tag:noindex
X-PUBLISHED-TTL:PT1H
BEGIN:VTIMEZONE
TZID:America/New_York
BEGIN:DAYLIGHT
TZOFFSETFROM:-0500
TZOFFSETTO:-0400
TZNAME:EDT
DTSTART:20270314T070000
END:DAYLIGHT
BEGIN:STANDARD
TZOFFSETFROM:-0400
TZOFFSETTO:-0500
TZNAME:EST
DTSTART:20271107T060000
END:STANDARD
BEGIN:DAYLIGHT
TZOFFSETFROM:-0500
TZOFFSETTO:-0400
TZNAME:EDT
DTSTART:20280312T070000
END:DAYLIGHT
BEGIN:STANDARD
TZOFFSETFROM:-0400
TZOFFSETTO:-0500
TZNAME:EST
DTSTART:20281105T060000
END:STANDARD
BEGIN:DAYLIGHT
TZOFFSETFROM:-0500
TZOFFSETTO:-0400
TZNAME:EDT
DTSTART:20290311T070000
END:DAYLIGHT
BEGIN:STANDARD
TZOFFSETFROM:-0400
TZOFFSETTO:-0500
TZNAME:EST
DTSTART:20291104T060000
END:STANDARD
END:VTIMEZONE
BEGIN:VEVENT
DTSTART;TZID=America/New_York:20280630T120000
DTEND;TZID=America/New_York:20280630T123000
DTSTAMP:20260425T122340
CREATED:20260220T232205Z
LAST-MODIFIED:20260220T232209Z
UID:10003953-1845979200-1845981000@mtvernonsda.org
SUMMARY:Daily Prayer at Noon
DESCRIPTION:A church that prays together stays together! Join us for daily prayer. \nTo Join: Dial: 646-558-8656\, Code: 418142065#
URL:https://mtvernonsda.org/event/daily-prayer-at-noon-2/2028-06-30/
LOCATION:Mount Vernon SDA Church\, 230 S. Columbus Avenue\, Mount Vernon\, NY\, 10553\, United States
ORGANIZER;CN="Mount Vernon SDA Church":MAILTO:mtvsecretary@hotmail.com
GEO:40.9086934;-73.8219186
X-APPLE-STRUCTURED-LOCATION;VALUE=URI;X-ADDRESS=Mount Vernon SDA Church 230 S. Columbus Avenue Mount Vernon NY 10553 United States;X-APPLE-RADIUS=500;X-TITLE=230 S. Columbus Avenue:geo:-73.8219186,40.9086934
END:VEVENT
BEGIN:VEVENT
DTSTART;TZID=America/New_York:20280702T090000
DTEND;TZID=America/New_York:20280702T100000
DTSTAMP:20260425T122340
CREATED:20260404T005616Z
LAST-MODIFIED:20260404T005618Z
UID:10005394-1846141200-1846144800@mtvernonsda.org
SUMMARY:Rise & Grind with Gee
DESCRIPTION:We are offering virtual exercise classes on Sundays at 9:00 AM. Meet us on Zoom and don’t forget your weights\, mats and water!\nEmail: education@mtvernonsda.org to register and for info on how to join.
URL:https://mtvernonsda.org/event/rise-grind-with-gee-2-2/2028-07-02/
ATTACH;FMTTYPE=image/png:https://mtvernonsda.org/wp-content/uploads/GTBL-1-2.png
END:VEVENT
BEGIN:VEVENT
DTSTART;TZID=America/New_York:20280702T120000
DTEND;TZID=America/New_York:20280702T143000
DTSTAMP:20260425T122340
CREATED:20260220T230534Z
LAST-MODIFIED:20260220T230714Z
UID:10003187-1846152000-1846161000@mtvernonsda.org
SUMMARY:Soup Kitchen
DESCRIPTION:EVERY SUNDAY\n12:00 – 2:00 PM | Community Distribution \n2:00- 2:30 PM | Church Member’s Distribution \nQuestions? Please contact admin@mtvernonsda.org
URL:https://mtvernonsda.org/event/soup-kitchen/2028-07-02/
LOCATION:Mount Vernon SDA Church\, 230 S. Columbus Avenue\, Mount Vernon\, NY\, 10553\, United States
CATEGORIES:community service
ATTACH;FMTTYPE=image/jpeg:https://mtvernonsda.org/wp-content/uploads/Image-1.jpeg
ORGANIZER;CN="Mount Vernon SDA Church":MAILTO:mtvsecretary@hotmail.com
GEO:40.9086934;-73.8219186
X-APPLE-STRUCTURED-LOCATION;VALUE=URI;X-ADDRESS=Mount Vernon SDA Church 230 S. Columbus Avenue Mount Vernon NY 10553 United States;X-APPLE-RADIUS=500;X-TITLE=230 S. Columbus Avenue:geo:-73.8219186,40.9086934
END:VEVENT
BEGIN:VEVENT
DTSTART;TZID=America/New_York:20280703T120000
DTEND;TZID=America/New_York:20280703T123000
DTSTAMP:20260425T122340
CREATED:20260220T232205Z
LAST-MODIFIED:20260220T232209Z
UID:10005039-1846238400-1846240200@mtvernonsda.org
SUMMARY:Daily Prayer at Noon
DESCRIPTION:A church that prays together stays together! Join us for daily prayer. \nTo Join: Dial: 646-558-8656\, Code: 418142065#
URL:https://mtvernonsda.org/event/daily-prayer-at-noon-2/2028-07-03/
LOCATION:Mount Vernon SDA Church\, 230 S. Columbus Avenue\, Mount Vernon\, NY\, 10553\, United States
ORGANIZER;CN="Mount Vernon SDA Church":MAILTO:mtvsecretary@hotmail.com
GEO:40.9086934;-73.8219186
X-APPLE-STRUCTURED-LOCATION;VALUE=URI;X-ADDRESS=Mount Vernon SDA Church 230 S. Columbus Avenue Mount Vernon NY 10553 United States;X-APPLE-RADIUS=500;X-TITLE=230 S. Columbus Avenue:geo:-73.8219186,40.9086934
END:VEVENT
BEGIN:VEVENT
DTSTART;TZID=America/New_York:20280704T120000
DTEND;TZID=America/New_York:20280704T123000
DTSTAMP:20260425T122340
CREATED:20260220T232205Z
LAST-MODIFIED:20260220T232209Z
UID:10003956-1846324800-1846326600@mtvernonsda.org
SUMMARY:Daily Prayer at Noon
DESCRIPTION:A church that prays together stays together! Join us for daily prayer. \nTo Join: Dial: 646-558-8656\, Code: 418142065#
URL:https://mtvernonsda.org/event/daily-prayer-at-noon-2/2028-07-04/
LOCATION:Mount Vernon SDA Church\, 230 S. Columbus Avenue\, Mount Vernon\, NY\, 10553\, United States
ORGANIZER;CN="Mount Vernon SDA Church":MAILTO:mtvsecretary@hotmail.com
GEO:40.9086934;-73.8219186
X-APPLE-STRUCTURED-LOCATION;VALUE=URI;X-ADDRESS=Mount Vernon SDA Church 230 S. Columbus Avenue Mount Vernon NY 10553 United States;X-APPLE-RADIUS=500;X-TITLE=230 S. Columbus Avenue:geo:-73.8219186,40.9086934
END:VEVENT
BEGIN:VEVENT
DTSTART;TZID=America/New_York:20280704T190000
DTEND;TZID=America/New_York:20280704T200000
DTSTAMP:20260425T122340
CREATED:20260220T051121Z
LAST-MODIFIED:20260220T051122Z
UID:10002224-1846350000-1846353600@mtvernonsda.org
SUMMARY:Bereavement Support Group Meeting
DESCRIPTION:
URL:https://mtvernonsda.org/event/bereavement-support-group-meeting-2/2028-07-04/
ORGANIZER;CN="Mount Vernon SDA Church":MAILTO:mtvsecretary@hotmail.com
END:VEVENT
BEGIN:VEVENT
DTSTART;TZID=America/New_York:20280705T120000
DTEND;TZID=America/New_York:20280705T123000
DTSTAMP:20260425T122340
CREATED:20260220T232205Z
LAST-MODIFIED:20260220T232209Z
UID:10003957-1846411200-1846413000@mtvernonsda.org
SUMMARY:Daily Prayer at Noon
DESCRIPTION:A church that prays together stays together! Join us for daily prayer. \nTo Join: Dial: 646-558-8656\, Code: 418142065#
URL:https://mtvernonsda.org/event/daily-prayer-at-noon-2/2028-07-05/
LOCATION:Mount Vernon SDA Church\, 230 S. Columbus Avenue\, Mount Vernon\, NY\, 10553\, United States
ORGANIZER;CN="Mount Vernon SDA Church":MAILTO:mtvsecretary@hotmail.com
GEO:40.9086934;-73.8219186
X-APPLE-STRUCTURED-LOCATION;VALUE=URI;X-ADDRESS=Mount Vernon SDA Church 230 S. Columbus Avenue Mount Vernon NY 10553 United States;X-APPLE-RADIUS=500;X-TITLE=230 S. Columbus Avenue:geo:-73.8219186,40.9086934
END:VEVENT
BEGIN:VEVENT
DTSTART;TZID=America/New_York:20280705T190000
DTEND;TZID=America/New_York:20280705T200000
DTSTAMP:20260425T122340
CREATED:20260220T044844Z
LAST-MODIFIED:20260220T044844Z
UID:10002655-1846436400-1846440000@mtvernonsda.org
SUMMARY:Worship on Wednesdays
DESCRIPTION:
URL:https://mtvernonsda.org/event/worship-on-wednesdays/2028-07-05/
ORGANIZER;CN="Mount Vernon SDA Church":MAILTO:mtvsecretary@hotmail.com
END:VEVENT
BEGIN:VEVENT
DTSTART;TZID=America/New_York:20280706T070000
DTEND;TZID=America/New_York:20280706T080000
DTSTAMP:20260425T122340
CREATED:20260220T050517Z
LAST-MODIFIED:20260220T050517Z
UID:10002921-1846479600-1846483200@mtvernonsda.org
SUMMARY:Weekly Men's Ministry Call
DESCRIPTION:
URL:https://mtvernonsda.org/event/weekly-mens-ministry-call/2028-07-06/
CATEGORIES:men's ministry
ATTACH;FMTTYPE=image/png:https://mtvernonsda.org/wp-content/uploads/full-2.png
ORGANIZER;CN="Mount Vernon SDA Church":MAILTO:mtvsecretary@hotmail.com
END:VEVENT
BEGIN:VEVENT
DTSTART;TZID=America/New_York:20280706T120000
DTEND;TZID=America/New_York:20280706T123000
DTSTAMP:20260425T122340
CREATED:20260220T232205Z
LAST-MODIFIED:20260220T232209Z
UID:10005040-1846497600-1846499400@mtvernonsda.org
SUMMARY:Daily Prayer at Noon
DESCRIPTION:A church that prays together stays together! Join us for daily prayer. \nTo Join: Dial: 646-558-8656\, Code: 418142065#
URL:https://mtvernonsda.org/event/daily-prayer-at-noon-2/2028-07-06/
LOCATION:Mount Vernon SDA Church\, 230 S. Columbus Avenue\, Mount Vernon\, NY\, 10553\, United States
ORGANIZER;CN="Mount Vernon SDA Church":MAILTO:mtvsecretary@hotmail.com
GEO:40.9086934;-73.8219186
X-APPLE-STRUCTURED-LOCATION;VALUE=URI;X-ADDRESS=Mount Vernon SDA Church 230 S. Columbus Avenue Mount Vernon NY 10553 United States;X-APPLE-RADIUS=500;X-TITLE=230 S. Columbus Avenue:geo:-73.8219186,40.9086934
END:VEVENT
BEGIN:VEVENT
DTSTART;TZID=America/New_York:20280707T060000
DTEND;TZID=America/New_York:20280707T070000
DTSTAMP:20260425T122340
CREATED:20260220T044336Z
LAST-MODIFIED:20260220T044455Z
UID:10002392-1846562400-1846566000@mtvernonsda.org
SUMMARY:Friday Morning Devotion
DESCRIPTION:
URL:https://mtvernonsda.org/event/friday-morning-devotion/2028-07-07/
ORGANIZER;CN="Mount Vernon SDA Church":MAILTO:mtvsecretary@hotmail.com
END:VEVENT
BEGIN:VEVENT
DTSTART;TZID=America/New_York:20280707T120000
DTEND;TZID=America/New_York:20280707T123000
DTSTAMP:20260425T122340
CREATED:20260220T232205Z
LAST-MODIFIED:20260220T232209Z
UID:10003959-1846584000-1846585800@mtvernonsda.org
SUMMARY:Daily Prayer at Noon
DESCRIPTION:A church that prays together stays together! Join us for daily prayer. \nTo Join: Dial: 646-558-8656\, Code: 418142065#
URL:https://mtvernonsda.org/event/daily-prayer-at-noon-2/2028-07-07/
LOCATION:Mount Vernon SDA Church\, 230 S. Columbus Avenue\, Mount Vernon\, NY\, 10553\, United States
ORGANIZER;CN="Mount Vernon SDA Church":MAILTO:mtvsecretary@hotmail.com
GEO:40.9086934;-73.8219186
X-APPLE-STRUCTURED-LOCATION;VALUE=URI;X-ADDRESS=Mount Vernon SDA Church 230 S. Columbus Avenue Mount Vernon NY 10553 United States;X-APPLE-RADIUS=500;X-TITLE=230 S. Columbus Avenue:geo:-73.8219186,40.9086934
END:VEVENT
BEGIN:VEVENT
DTSTART;TZID=America/New_York:20280709T090000
DTEND;TZID=America/New_York:20280709T100000
DTSTAMP:20260425T122340
CREATED:20260404T005616Z
LAST-MODIFIED:20260404T005618Z
UID:10005395-1846746000-1846749600@mtvernonsda.org
SUMMARY:Rise & Grind with Gee
DESCRIPTION:We are offering virtual exercise classes on Sundays at 9:00 AM. Meet us on Zoom and don’t forget your weights\, mats and water!\nEmail: education@mtvernonsda.org to register and for info on how to join.
URL:https://mtvernonsda.org/event/rise-grind-with-gee-2-2/2028-07-09/
ATTACH;FMTTYPE=image/png:https://mtvernonsda.org/wp-content/uploads/GTBL-1-2.png
END:VEVENT
BEGIN:VEVENT
DTSTART;TZID=America/New_York:20280709T120000
DTEND;TZID=America/New_York:20280709T143000
DTSTAMP:20260425T122340
CREATED:20260220T230534Z
LAST-MODIFIED:20260220T230714Z
UID:10003188-1846756800-1846765800@mtvernonsda.org
SUMMARY:Soup Kitchen
DESCRIPTION:EVERY SUNDAY\n12:00 – 2:00 PM | Community Distribution \n2:00- 2:30 PM | Church Member’s Distribution \nQuestions? Please contact admin@mtvernonsda.org
URL:https://mtvernonsda.org/event/soup-kitchen/2028-07-09/
LOCATION:Mount Vernon SDA Church\, 230 S. Columbus Avenue\, Mount Vernon\, NY\, 10553\, United States
CATEGORIES:community service
ATTACH;FMTTYPE=image/jpeg:https://mtvernonsda.org/wp-content/uploads/Image-1.jpeg
ORGANIZER;CN="Mount Vernon SDA Church":MAILTO:mtvsecretary@hotmail.com
GEO:40.9086934;-73.8219186
X-APPLE-STRUCTURED-LOCATION;VALUE=URI;X-ADDRESS=Mount Vernon SDA Church 230 S. Columbus Avenue Mount Vernon NY 10553 United States;X-APPLE-RADIUS=500;X-TITLE=230 S. Columbus Avenue:geo:-73.8219186,40.9086934
END:VEVENT
BEGIN:VEVENT
DTSTART;TZID=America/New_York:20280710T120000
DTEND;TZID=America/New_York:20280710T123000
DTSTAMP:20260425T122340
CREATED:20260220T232205Z
LAST-MODIFIED:20260220T232209Z
UID:10004727-1846843200-1846845000@mtvernonsda.org
SUMMARY:Daily Prayer at Noon
DESCRIPTION:A church that prays together stays together! Join us for daily prayer. \nTo Join: Dial: 646-558-8656\, Code: 418142065#
URL:https://mtvernonsda.org/event/daily-prayer-at-noon-2/2028-07-10/
LOCATION:Mount Vernon SDA Church\, 230 S. Columbus Avenue\, Mount Vernon\, NY\, 10553\, United States
ORGANIZER;CN="Mount Vernon SDA Church":MAILTO:mtvsecretary@hotmail.com
GEO:40.9086934;-73.8219186
X-APPLE-STRUCTURED-LOCATION;VALUE=URI;X-ADDRESS=Mount Vernon SDA Church 230 S. Columbus Avenue Mount Vernon NY 10553 United States;X-APPLE-RADIUS=500;X-TITLE=230 S. Columbus Avenue:geo:-73.8219186,40.9086934
END:VEVENT
BEGIN:VEVENT
DTSTART;TZID=America/New_York:20280711T120000
DTEND;TZID=America/New_York:20280711T123000
DTSTAMP:20260425T122340
CREATED:20260220T232205Z
LAST-MODIFIED:20260220T232209Z
UID:10005041-1846929600-1846931400@mtvernonsda.org
SUMMARY:Daily Prayer at Noon
DESCRIPTION:A church that prays together stays together! Join us for daily prayer. \nTo Join: Dial: 646-558-8656\, Code: 418142065#
URL:https://mtvernonsda.org/event/daily-prayer-at-noon-2/2028-07-11/
LOCATION:Mount Vernon SDA Church\, 230 S. Columbus Avenue\, Mount Vernon\, NY\, 10553\, United States
ORGANIZER;CN="Mount Vernon SDA Church":MAILTO:mtvsecretary@hotmail.com
GEO:40.9086934;-73.8219186
X-APPLE-STRUCTURED-LOCATION;VALUE=URI;X-ADDRESS=Mount Vernon SDA Church 230 S. Columbus Avenue Mount Vernon NY 10553 United States;X-APPLE-RADIUS=500;X-TITLE=230 S. Columbus Avenue:geo:-73.8219186,40.9086934
END:VEVENT
BEGIN:VEVENT
DTSTART;TZID=America/New_York:20280712T120000
DTEND;TZID=America/New_York:20280712T123000
DTSTAMP:20260425T122340
CREATED:20260220T232205Z
LAST-MODIFIED:20260220T232209Z
UID:10003962-1847016000-1847017800@mtvernonsda.org
SUMMARY:Daily Prayer at Noon
DESCRIPTION:A church that prays together stays together! Join us for daily prayer. \nTo Join: Dial: 646-558-8656\, Code: 418142065#
URL:https://mtvernonsda.org/event/daily-prayer-at-noon-2/2028-07-12/
LOCATION:Mount Vernon SDA Church\, 230 S. Columbus Avenue\, Mount Vernon\, NY\, 10553\, United States
ORGANIZER;CN="Mount Vernon SDA Church":MAILTO:mtvsecretary@hotmail.com
GEO:40.9086934;-73.8219186
X-APPLE-STRUCTURED-LOCATION;VALUE=URI;X-ADDRESS=Mount Vernon SDA Church 230 S. Columbus Avenue Mount Vernon NY 10553 United States;X-APPLE-RADIUS=500;X-TITLE=230 S. Columbus Avenue:geo:-73.8219186,40.9086934
END:VEVENT
BEGIN:VEVENT
DTSTART;TZID=America/New_York:20280712T190000
DTEND;TZID=America/New_York:20280712T200000
DTSTAMP:20260425T122340
CREATED:20260220T044844Z
LAST-MODIFIED:20260220T044844Z
UID:10002656-1847041200-1847044800@mtvernonsda.org
SUMMARY:Worship on Wednesdays
DESCRIPTION:
URL:https://mtvernonsda.org/event/worship-on-wednesdays/2028-07-12/
ORGANIZER;CN="Mount Vernon SDA Church":MAILTO:mtvsecretary@hotmail.com
END:VEVENT
BEGIN:VEVENT
DTSTART;TZID=America/New_York:20280713T070000
DTEND;TZID=America/New_York:20280713T080000
DTSTAMP:20260425T122340
CREATED:20260220T050517Z
LAST-MODIFIED:20260220T050517Z
UID:10002922-1847084400-1847088000@mtvernonsda.org
SUMMARY:Weekly Men's Ministry Call
DESCRIPTION:
URL:https://mtvernonsda.org/event/weekly-mens-ministry-call/2028-07-13/
CATEGORIES:men's ministry
ATTACH;FMTTYPE=image/png:https://mtvernonsda.org/wp-content/uploads/full-2.png
ORGANIZER;CN="Mount Vernon SDA Church":MAILTO:mtvsecretary@hotmail.com
END:VEVENT
BEGIN:VEVENT
DTSTART;TZID=America/New_York:20280713T120000
DTEND;TZID=America/New_York:20280713T123000
DTSTAMP:20260425T122340
CREATED:20260220T232205Z
LAST-MODIFIED:20260220T232209Z
UID:10003963-1847102400-1847104200@mtvernonsda.org
SUMMARY:Daily Prayer at Noon
DESCRIPTION:A church that prays together stays together! Join us for daily prayer. \nTo Join: Dial: 646-558-8656\, Code: 418142065#
URL:https://mtvernonsda.org/event/daily-prayer-at-noon-2/2028-07-13/
LOCATION:Mount Vernon SDA Church\, 230 S. Columbus Avenue\, Mount Vernon\, NY\, 10553\, United States
ORGANIZER;CN="Mount Vernon SDA Church":MAILTO:mtvsecretary@hotmail.com
GEO:40.9086934;-73.8219186
X-APPLE-STRUCTURED-LOCATION;VALUE=URI;X-ADDRESS=Mount Vernon SDA Church 230 S. Columbus Avenue Mount Vernon NY 10553 United States;X-APPLE-RADIUS=500;X-TITLE=230 S. Columbus Avenue:geo:-73.8219186,40.9086934
END:VEVENT
BEGIN:VEVENT
DTSTART;TZID=America/New_York:20280714T060000
DTEND;TZID=America/New_York:20280714T070000
DTSTAMP:20260425T122340
CREATED:20260220T044336Z
LAST-MODIFIED:20260220T044455Z
UID:10002393-1847167200-1847170800@mtvernonsda.org
SUMMARY:Friday Morning Devotion
DESCRIPTION:
URL:https://mtvernonsda.org/event/friday-morning-devotion/2028-07-14/
ORGANIZER;CN="Mount Vernon SDA Church":MAILTO:mtvsecretary@hotmail.com
END:VEVENT
BEGIN:VEVENT
DTSTART;TZID=America/New_York:20280714T120000
DTEND;TZID=America/New_York:20280714T123000
DTSTAMP:20260425T122340
CREATED:20260220T232205Z
LAST-MODIFIED:20260220T232209Z
UID:10003964-1847188800-1847190600@mtvernonsda.org
SUMMARY:Daily Prayer at Noon
DESCRIPTION:A church that prays together stays together! Join us for daily prayer. \nTo Join: Dial: 646-558-8656\, Code: 418142065#
URL:https://mtvernonsda.org/event/daily-prayer-at-noon-2/2028-07-14/
LOCATION:Mount Vernon SDA Church\, 230 S. Columbus Avenue\, Mount Vernon\, NY\, 10553\, United States
ORGANIZER;CN="Mount Vernon SDA Church":MAILTO:mtvsecretary@hotmail.com
GEO:40.9086934;-73.8219186
X-APPLE-STRUCTURED-LOCATION;VALUE=URI;X-ADDRESS=Mount Vernon SDA Church 230 S. Columbus Avenue Mount Vernon NY 10553 United States;X-APPLE-RADIUS=500;X-TITLE=230 S. Columbus Avenue:geo:-73.8219186,40.9086934
END:VEVENT
BEGIN:VEVENT
DTSTART;TZID=America/New_York:20280716T090000
DTEND;TZID=America/New_York:20280716T100000
DTSTAMP:20260425T122340
CREATED:20260404T005616Z
LAST-MODIFIED:20260404T005618Z
UID:10005396-1847350800-1847354400@mtvernonsda.org
SUMMARY:Rise & Grind with Gee
DESCRIPTION:We are offering virtual exercise classes on Sundays at 9:00 AM. Meet us on Zoom and don’t forget your weights\, mats and water!\nEmail: education@mtvernonsda.org to register and for info on how to join.
URL:https://mtvernonsda.org/event/rise-grind-with-gee-2-2/2028-07-16/
ATTACH;FMTTYPE=image/png:https://mtvernonsda.org/wp-content/uploads/GTBL-1-2.png
END:VEVENT
BEGIN:VEVENT
DTSTART;TZID=America/New_York:20280716T100000
DTEND;TZID=America/New_York:20280716T140000
DTSTAMP:20260425T122340
CREATED:20260309T224535Z
LAST-MODIFIED:20260309T224535Z
UID:10005623-1847354400-1847368800@mtvernonsda.org
SUMMARY:Power In A Shower
DESCRIPTION:
URL:https://mtvernonsda.org/event/power-in-a-shower-3/2028-07-16/
LOCATION:Mount Vernon SDA Church\, 230 S. Columbus Avenue\, Mount Vernon\, NY\, 10553\, United States
ATTACH;FMTTYPE=application/pdf:https://mtvernonsda.org/wp-content/uploads/Feed-The-Homeless-Fundraiser-Template.pdf
ORGANIZER;CN="Mount Vernon SDA Church":MAILTO:mtvsecretary@hotmail.com
GEO:40.9086934;-73.8219186
X-APPLE-STRUCTURED-LOCATION;VALUE=URI;X-ADDRESS=Mount Vernon SDA Church 230 S. Columbus Avenue Mount Vernon NY 10553 United States;X-APPLE-RADIUS=500;X-TITLE=230 S. Columbus Avenue:geo:-73.8219186,40.9086934
END:VEVENT
BEGIN:VEVENT
DTSTART;TZID=America/New_York:20280716T120000
DTEND;TZID=America/New_York:20280716T143000
DTSTAMP:20260425T122340
CREATED:20260220T230534Z
LAST-MODIFIED:20260220T230714Z
UID:10003189-1847361600-1847370600@mtvernonsda.org
SUMMARY:Soup Kitchen
DESCRIPTION:EVERY SUNDAY\n12:00 – 2:00 PM | Community Distribution \n2:00- 2:30 PM | Church Member’s Distribution \nQuestions? Please contact admin@mtvernonsda.org
URL:https://mtvernonsda.org/event/soup-kitchen/2028-07-16/
LOCATION:Mount Vernon SDA Church\, 230 S. Columbus Avenue\, Mount Vernon\, NY\, 10553\, United States
CATEGORIES:community service
ATTACH;FMTTYPE=image/jpeg:https://mtvernonsda.org/wp-content/uploads/Image-1.jpeg
ORGANIZER;CN="Mount Vernon SDA Church":MAILTO:mtvsecretary@hotmail.com
GEO:40.9086934;-73.8219186
X-APPLE-STRUCTURED-LOCATION;VALUE=URI;X-ADDRESS=Mount Vernon SDA Church 230 S. Columbus Avenue Mount Vernon NY 10553 United States;X-APPLE-RADIUS=500;X-TITLE=230 S. Columbus Avenue:geo:-73.8219186,40.9086934
END:VEVENT
BEGIN:VEVENT
DTSTART;TZID=America/New_York:20280717T120000
DTEND;TZID=America/New_York:20280717T123000
DTSTAMP:20260425T122340
CREATED:20260220T232205Z
LAST-MODIFIED:20260220T232209Z
UID:10004728-1847448000-1847449800@mtvernonsda.org
SUMMARY:Daily Prayer at Noon
DESCRIPTION:A church that prays together stays together! Join us for daily prayer. \nTo Join: Dial: 646-558-8656\, Code: 418142065#
URL:https://mtvernonsda.org/event/daily-prayer-at-noon-2/2028-07-17/
LOCATION:Mount Vernon SDA Church\, 230 S. Columbus Avenue\, Mount Vernon\, NY\, 10553\, United States
ORGANIZER;CN="Mount Vernon SDA Church":MAILTO:mtvsecretary@hotmail.com
GEO:40.9086934;-73.8219186
X-APPLE-STRUCTURED-LOCATION;VALUE=URI;X-ADDRESS=Mount Vernon SDA Church 230 S. Columbus Avenue Mount Vernon NY 10553 United States;X-APPLE-RADIUS=500;X-TITLE=230 S. Columbus Avenue:geo:-73.8219186,40.9086934
END:VEVENT
BEGIN:VEVENT
DTSTART;TZID=America/New_York:20280718T120000
DTEND;TZID=America/New_York:20280718T123000
DTSTAMP:20260425T122340
CREATED:20260220T232205Z
LAST-MODIFIED:20260220T232209Z
UID:10003966-1847534400-1847536200@mtvernonsda.org
SUMMARY:Daily Prayer at Noon
DESCRIPTION:A church that prays together stays together! Join us for daily prayer. \nTo Join: Dial: 646-558-8656\, Code: 418142065#
URL:https://mtvernonsda.org/event/daily-prayer-at-noon-2/2028-07-18/
LOCATION:Mount Vernon SDA Church\, 230 S. Columbus Avenue\, Mount Vernon\, NY\, 10553\, United States
ORGANIZER;CN="Mount Vernon SDA Church":MAILTO:mtvsecretary@hotmail.com
GEO:40.9086934;-73.8219186
X-APPLE-STRUCTURED-LOCATION;VALUE=URI;X-ADDRESS=Mount Vernon SDA Church 230 S. Columbus Avenue Mount Vernon NY 10553 United States;X-APPLE-RADIUS=500;X-TITLE=230 S. Columbus Avenue:geo:-73.8219186,40.9086934
END:VEVENT
BEGIN:VEVENT
DTSTART;TZID=America/New_York:20280719T120000
DTEND;TZID=America/New_York:20280719T123000
DTSTAMP:20260425T122340
CREATED:20260220T232205Z
LAST-MODIFIED:20260220T232209Z
UID:10003967-1847620800-1847622600@mtvernonsda.org
SUMMARY:Daily Prayer at Noon
DESCRIPTION:A church that prays together stays together! Join us for daily prayer. \nTo Join: Dial: 646-558-8656\, Code: 418142065#
URL:https://mtvernonsda.org/event/daily-prayer-at-noon-2/2028-07-19/
LOCATION:Mount Vernon SDA Church\, 230 S. Columbus Avenue\, Mount Vernon\, NY\, 10553\, United States
ORGANIZER;CN="Mount Vernon SDA Church":MAILTO:mtvsecretary@hotmail.com
GEO:40.9086934;-73.8219186
X-APPLE-STRUCTURED-LOCATION;VALUE=URI;X-ADDRESS=Mount Vernon SDA Church 230 S. Columbus Avenue Mount Vernon NY 10553 United States;X-APPLE-RADIUS=500;X-TITLE=230 S. Columbus Avenue:geo:-73.8219186,40.9086934
END:VEVENT
BEGIN:VEVENT
DTSTART;TZID=America/New_York:20280719T190000
DTEND;TZID=America/New_York:20280719T200000
DTSTAMP:20260425T122340
CREATED:20260220T044844Z
LAST-MODIFIED:20260220T044844Z
UID:10002657-1847646000-1847649600@mtvernonsda.org
SUMMARY:Worship on Wednesdays
DESCRIPTION:
URL:https://mtvernonsda.org/event/worship-on-wednesdays/2028-07-19/
ORGANIZER;CN="Mount Vernon SDA Church":MAILTO:mtvsecretary@hotmail.com
END:VEVENT
BEGIN:VEVENT
DTSTART;TZID=America/New_York:20280720T070000
DTEND;TZID=America/New_York:20280720T080000
DTSTAMP:20260425T122340
CREATED:20260220T050517Z
LAST-MODIFIED:20260220T050517Z
UID:10002923-1847689200-1847692800@mtvernonsda.org
SUMMARY:Weekly Men's Ministry Call
DESCRIPTION:
URL:https://mtvernonsda.org/event/weekly-mens-ministry-call/2028-07-20/
CATEGORIES:men's ministry
ATTACH;FMTTYPE=image/png:https://mtvernonsda.org/wp-content/uploads/full-2.png
ORGANIZER;CN="Mount Vernon SDA Church":MAILTO:mtvsecretary@hotmail.com
END:VEVENT
END:VCALENDAR