BEGIN:VCALENDAR
VERSION:2.0
PRODID:-//Mt. Vernon SDA Church - ECPv6.15.20//NONSGML v1.0//EN
CALSCALE:GREGORIAN
METHOD:PUBLISH
X-WR-CALNAME:Mt. Vernon SDA Church
X-ORIGINAL-URL:https://mtvernonsda.org
X-WR-CALDESC:Events for Mt. Vernon SDA Church
REFRESH-INTERVAL;VALUE=DURATION:PT1H
X-Robots-Tag:noindex
X-PUBLISHED-TTL:PT1H
BEGIN:VTIMEZONE
TZID:America/New_York
BEGIN:DAYLIGHT
TZOFFSETFROM:-0500
TZOFFSETTO:-0400
TZNAME:EDT
DTSTART:20260308T070000
END:DAYLIGHT
BEGIN:STANDARD
TZOFFSETFROM:-0400
TZOFFSETTO:-0500
TZNAME:EST
DTSTART:20261101T060000
END:STANDARD
BEGIN:DAYLIGHT
TZOFFSETFROM:-0500
TZOFFSETTO:-0400
TZNAME:EDT
DTSTART:20270314T070000
END:DAYLIGHT
BEGIN:STANDARD
TZOFFSETFROM:-0400
TZOFFSETTO:-0500
TZNAME:EST
DTSTART:20271107T060000
END:STANDARD
BEGIN:DAYLIGHT
TZOFFSETFROM:-0500
TZOFFSETTO:-0400
TZNAME:EDT
DTSTART:20280312T070000
END:DAYLIGHT
BEGIN:STANDARD
TZOFFSETFROM:-0400
TZOFFSETTO:-0500
TZNAME:EST
DTSTART:20281105T060000
END:STANDARD
END:VTIMEZONE
BEGIN:VEVENT
DTSTART;TZID=America/New_York:20270922T190000
DTEND;TZID=America/New_York:20270922T200000
DTSTAMP:20260424T114344
CREATED:20260220T044844Z
LAST-MODIFIED:20260220T044844Z
UID:10002614-1821639600-1821643200@mtvernonsda.org
SUMMARY:Worship on Wednesdays
DESCRIPTION:
URL:https://mtvernonsda.org/event/worship-on-wednesdays/2027-09-22/
LOCATION:NY
ORGANIZER;CN="Mount Vernon SDA Church":MAILTO:mtvsecretary@hotmail.com
END:VEVENT
BEGIN:VEVENT
DTSTART;TZID=America/New_York:20270922T120000
DTEND;TZID=America/New_York:20270922T123000
DTSTAMP:20260424T114344
CREATED:20260220T232205Z
LAST-MODIFIED:20260220T232209Z
UID:10003752-1821614400-1821616200@mtvernonsda.org
SUMMARY:Daily Prayer at Noon
DESCRIPTION:A church that prays together stays together! Join us for daily prayer. \nTo Join: Dial: 646-558-8656\, Code: 418142065#
URL:https://mtvernonsda.org/event/daily-prayer-at-noon-2/2027-09-22/
LOCATION:Mount Vernon SDA Church\, 230 S. Columbus Avenue\, Mount Vernon\, NY\, 10553\, United States
ORGANIZER;CN="Mount Vernon SDA Church":MAILTO:mtvsecretary@hotmail.com
GEO:40.9086934;-73.8219186
X-APPLE-STRUCTURED-LOCATION;VALUE=URI;X-ADDRESS=Mount Vernon SDA Church 230 S. Columbus Avenue Mount Vernon NY 10553 United States;X-APPLE-RADIUS=500;X-TITLE=230 S. Columbus Avenue:geo:-73.8219186,40.9086934
END:VEVENT
BEGIN:VEVENT
DTSTART;TZID=America/New_York:20270921T120000
DTEND;TZID=America/New_York:20270921T123000
DTSTAMP:20260424T114344
CREATED:20260220T232205Z
LAST-MODIFIED:20260220T232209Z
UID:10003751-1821528000-1821529800@mtvernonsda.org
SUMMARY:Daily Prayer at Noon
DESCRIPTION:A church that prays together stays together! Join us for daily prayer. \nTo Join: Dial: 646-558-8656\, Code: 418142065#
URL:https://mtvernonsda.org/event/daily-prayer-at-noon-2/2027-09-21/
LOCATION:Mount Vernon SDA Church\, 230 S. Columbus Avenue\, Mount Vernon\, NY\, 10553\, United States
ORGANIZER;CN="Mount Vernon SDA Church":MAILTO:mtvsecretary@hotmail.com
GEO:40.9086934;-73.8219186
X-APPLE-STRUCTURED-LOCATION;VALUE=URI;X-ADDRESS=Mount Vernon SDA Church 230 S. Columbus Avenue Mount Vernon NY 10553 United States;X-APPLE-RADIUS=500;X-TITLE=230 S. Columbus Avenue:geo:-73.8219186,40.9086934
END:VEVENT
BEGIN:VEVENT
DTSTART;TZID=America/New_York:20270920T120000
DTEND;TZID=America/New_York:20270920T123000
DTSTAMP:20260424T114344
CREATED:20260220T232205Z
LAST-MODIFIED:20260220T232209Z
UID:10004971-1821441600-1821443400@mtvernonsda.org
SUMMARY:Daily Prayer at Noon
DESCRIPTION:A church that prays together stays together! Join us for daily prayer. \nTo Join: Dial: 646-558-8656\, Code: 418142065#
URL:https://mtvernonsda.org/event/daily-prayer-at-noon-2/2027-09-20/
LOCATION:Mount Vernon SDA Church\, 230 S. Columbus Avenue\, Mount Vernon\, NY\, 10553\, United States
ORGANIZER;CN="Mount Vernon SDA Church":MAILTO:mtvsecretary@hotmail.com
GEO:40.9086934;-73.8219186
X-APPLE-STRUCTURED-LOCATION;VALUE=URI;X-ADDRESS=Mount Vernon SDA Church 230 S. Columbus Avenue Mount Vernon NY 10553 United States;X-APPLE-RADIUS=500;X-TITLE=230 S. Columbus Avenue:geo:-73.8219186,40.9086934
END:VEVENT
BEGIN:VEVENT
DTSTART;TZID=America/New_York:20270919T120000
DTEND;TZID=America/New_York:20270919T143000
DTSTAMP:20260424T114344
CREATED:20260220T230534Z
LAST-MODIFIED:20260220T230714Z
UID:10003146-1821355200-1821364200@mtvernonsda.org
SUMMARY:Soup Kitchen
DESCRIPTION:EVERY SUNDAY\n12:00 – 2:00 PM | Community Distribution \n2:00- 2:30 PM | Church Member’s Distribution \nQuestions? Please contact admin@mtvernonsda.org
URL:https://mtvernonsda.org/event/soup-kitchen/2027-09-19/
LOCATION:Mount Vernon SDA Church\, 230 S. Columbus Avenue\, Mount Vernon\, NY\, 10553\, United States
CATEGORIES:community service
ATTACH;FMTTYPE=image/jpeg:https://mtvernonsda.org/wp-content/uploads/Image-1.jpeg
ORGANIZER;CN="Mount Vernon SDA Church":MAILTO:mtvsecretary@hotmail.com
GEO:40.9086934;-73.8219186
X-APPLE-STRUCTURED-LOCATION;VALUE=URI;X-ADDRESS=Mount Vernon SDA Church 230 S. Columbus Avenue Mount Vernon NY 10553 United States;X-APPLE-RADIUS=500;X-TITLE=230 S. Columbus Avenue:geo:-73.8219186,40.9086934
END:VEVENT
BEGIN:VEVENT
DTSTART;TZID=America/New_York:20270919T100000
DTEND;TZID=America/New_York:20270919T140000
DTSTAMP:20260424T114344
CREATED:20260309T224535Z
LAST-MODIFIED:20260309T224535Z
UID:10005613-1821348000-1821362400@mtvernonsda.org
SUMMARY:Power In A Shower
DESCRIPTION:
URL:https://mtvernonsda.org/event/power-in-a-shower-3/2027-09-19/
LOCATION:Mount Vernon SDA Church\, 230 S. Columbus Avenue\, Mount Vernon\, NY\, 10553\, United States
ATTACH;FMTTYPE=application/pdf:https://mtvernonsda.org/wp-content/uploads/Feed-The-Homeless-Fundraiser-Template.pdf
ORGANIZER;CN="Mount Vernon SDA Church":MAILTO:mtvsecretary@hotmail.com
GEO:40.9086934;-73.8219186
X-APPLE-STRUCTURED-LOCATION;VALUE=URI;X-ADDRESS=Mount Vernon SDA Church 230 S. Columbus Avenue Mount Vernon NY 10553 United States;X-APPLE-RADIUS=500;X-TITLE=230 S. Columbus Avenue:geo:-73.8219186,40.9086934
END:VEVENT
BEGIN:VEVENT
DTSTART;TZID=America/New_York:20270919T090000
DTEND;TZID=America/New_York:20270919T100000
DTSTAMP:20260424T114344
CREATED:20260404T005616Z
LAST-MODIFIED:20260404T005618Z
UID:10005353-1821344400-1821348000@mtvernonsda.org
SUMMARY:Rise & Grind with Gee
DESCRIPTION:We are offering virtual exercise classes on Sundays at 9:00 AM. Meet us on Zoom and don’t forget your weights\, mats and water!\nEmail: education@mtvernonsda.org to register and for info on how to join.
URL:https://mtvernonsda.org/event/rise-grind-with-gee-2-2/2027-09-19/
LOCATION:NY
ATTACH;FMTTYPE=image/png:https://mtvernonsda.org/wp-content/uploads/GTBL-1-2.png
END:VEVENT
BEGIN:VEVENT
DTSTART;TZID=America/New_York:20270917T120000
DTEND;TZID=America/New_York:20270917T123000
DTSTAMP:20260424T114344
CREATED:20260220T232205Z
LAST-MODIFIED:20260220T232209Z
UID:10003749-1821182400-1821184200@mtvernonsda.org
SUMMARY:Daily Prayer at Noon
DESCRIPTION:A church that prays together stays together! Join us for daily prayer. \nTo Join: Dial: 646-558-8656\, Code: 418142065#
URL:https://mtvernonsda.org/event/daily-prayer-at-noon-2/2027-09-17/
LOCATION:Mount Vernon SDA Church\, 230 S. Columbus Avenue\, Mount Vernon\, NY\, 10553\, United States
ORGANIZER;CN="Mount Vernon SDA Church":MAILTO:mtvsecretary@hotmail.com
GEO:40.9086934;-73.8219186
X-APPLE-STRUCTURED-LOCATION;VALUE=URI;X-ADDRESS=Mount Vernon SDA Church 230 S. Columbus Avenue Mount Vernon NY 10553 United States;X-APPLE-RADIUS=500;X-TITLE=230 S. Columbus Avenue:geo:-73.8219186,40.9086934
END:VEVENT
BEGIN:VEVENT
DTSTART;TZID=America/New_York:20270917T060000
DTEND;TZID=America/New_York:20270917T070000
DTSTAMP:20260424T114344
CREATED:20260220T044336Z
LAST-MODIFIED:20260220T044455Z
UID:10002350-1821160800-1821164400@mtvernonsda.org
SUMMARY:Friday Morning Devotion
DESCRIPTION:
URL:https://mtvernonsda.org/event/friday-morning-devotion/2027-09-17/
LOCATION:NY
ORGANIZER;CN="Mount Vernon SDA Church":MAILTO:mtvsecretary@hotmail.com
END:VEVENT
BEGIN:VEVENT
DTSTART;TZID=America/New_York:20270916T120000
DTEND;TZID=America/New_York:20270916T123000
DTSTAMP:20260424T114344
CREATED:20260220T232205Z
LAST-MODIFIED:20260220T232209Z
UID:10003748-1821096000-1821097800@mtvernonsda.org
SUMMARY:Daily Prayer at Noon
DESCRIPTION:A church that prays together stays together! Join us for daily prayer. \nTo Join: Dial: 646-558-8656\, Code: 418142065#
URL:https://mtvernonsda.org/event/daily-prayer-at-noon-2/2027-09-16/
LOCATION:Mount Vernon SDA Church\, 230 S. Columbus Avenue\, Mount Vernon\, NY\, 10553\, United States
ORGANIZER;CN="Mount Vernon SDA Church":MAILTO:mtvsecretary@hotmail.com
GEO:40.9086934;-73.8219186
X-APPLE-STRUCTURED-LOCATION;VALUE=URI;X-ADDRESS=Mount Vernon SDA Church 230 S. Columbus Avenue Mount Vernon NY 10553 United States;X-APPLE-RADIUS=500;X-TITLE=230 S. Columbus Avenue:geo:-73.8219186,40.9086934
END:VEVENT
BEGIN:VEVENT
DTSTART;TZID=America/New_York:20270916T070000
DTEND;TZID=America/New_York:20270916T080000
DTSTAMP:20260424T114344
CREATED:20260220T050517Z
LAST-MODIFIED:20260220T050517Z
UID:10002879-1821078000-1821081600@mtvernonsda.org
SUMMARY:Weekly Men's Ministry Call
DESCRIPTION:
URL:https://mtvernonsda.org/event/weekly-mens-ministry-call/2027-09-16/
LOCATION:NY
CATEGORIES:men's ministry
ATTACH;FMTTYPE=image/png:https://mtvernonsda.org/wp-content/uploads/full-2.png
ORGANIZER;CN="Mount Vernon SDA Church":MAILTO:mtvsecretary@hotmail.com
END:VEVENT
BEGIN:VEVENT
DTSTART;TZID=America/New_York:20270915T190000
DTEND;TZID=America/New_York:20270915T200000
DTSTAMP:20260424T114344
CREATED:20260220T044844Z
LAST-MODIFIED:20260220T044844Z
UID:10002613-1821034800-1821038400@mtvernonsda.org
SUMMARY:Worship on Wednesdays
DESCRIPTION:
URL:https://mtvernonsda.org/event/worship-on-wednesdays/2027-09-15/
LOCATION:NY
ORGANIZER;CN="Mount Vernon SDA Church":MAILTO:mtvsecretary@hotmail.com
END:VEVENT
BEGIN:VEVENT
DTSTART;TZID=America/New_York:20270915T120000
DTEND;TZID=America/New_York:20270915T123000
DTSTAMP:20260424T114344
CREATED:20260220T232205Z
LAST-MODIFIED:20260220T232209Z
UID:10004970-1821009600-1821011400@mtvernonsda.org
SUMMARY:Daily Prayer at Noon
DESCRIPTION:A church that prays together stays together! Join us for daily prayer. \nTo Join: Dial: 646-558-8656\, Code: 418142065#
URL:https://mtvernonsda.org/event/daily-prayer-at-noon-2/2027-09-15/
LOCATION:Mount Vernon SDA Church\, 230 S. Columbus Avenue\, Mount Vernon\, NY\, 10553\, United States
ORGANIZER;CN="Mount Vernon SDA Church":MAILTO:mtvsecretary@hotmail.com
GEO:40.9086934;-73.8219186
X-APPLE-STRUCTURED-LOCATION;VALUE=URI;X-ADDRESS=Mount Vernon SDA Church 230 S. Columbus Avenue Mount Vernon NY 10553 United States;X-APPLE-RADIUS=500;X-TITLE=230 S. Columbus Avenue:geo:-73.8219186,40.9086934
END:VEVENT
BEGIN:VEVENT
DTSTART;TZID=America/New_York:20270914T120000
DTEND;TZID=America/New_York:20270914T123000
DTSTAMP:20260424T114344
CREATED:20260220T232205Z
LAST-MODIFIED:20260220T232209Z
UID:10003746-1820923200-1820925000@mtvernonsda.org
SUMMARY:Daily Prayer at Noon
DESCRIPTION:A church that prays together stays together! Join us for daily prayer. \nTo Join: Dial: 646-558-8656\, Code: 418142065#
URL:https://mtvernonsda.org/event/daily-prayer-at-noon-2/2027-09-14/
LOCATION:Mount Vernon SDA Church\, 230 S. Columbus Avenue\, Mount Vernon\, NY\, 10553\, United States
ORGANIZER;CN="Mount Vernon SDA Church":MAILTO:mtvsecretary@hotmail.com
GEO:40.9086934;-73.8219186
X-APPLE-STRUCTURED-LOCATION;VALUE=URI;X-ADDRESS=Mount Vernon SDA Church 230 S. Columbus Avenue Mount Vernon NY 10553 United States;X-APPLE-RADIUS=500;X-TITLE=230 S. Columbus Avenue:geo:-73.8219186,40.9086934
END:VEVENT
BEGIN:VEVENT
DTSTART;TZID=America/New_York:20270913T120000
DTEND;TZID=America/New_York:20270913T123000
DTSTAMP:20260424T114344
CREATED:20260220T232205Z
LAST-MODIFIED:20260220T232209Z
UID:10004969-1820836800-1820838600@mtvernonsda.org
SUMMARY:Daily Prayer at Noon
DESCRIPTION:A church that prays together stays together! Join us for daily prayer. \nTo Join: Dial: 646-558-8656\, Code: 418142065#
URL:https://mtvernonsda.org/event/daily-prayer-at-noon-2/2027-09-13/
LOCATION:Mount Vernon SDA Church\, 230 S. Columbus Avenue\, Mount Vernon\, NY\, 10553\, United States
ORGANIZER;CN="Mount Vernon SDA Church":MAILTO:mtvsecretary@hotmail.com
GEO:40.9086934;-73.8219186
X-APPLE-STRUCTURED-LOCATION;VALUE=URI;X-ADDRESS=Mount Vernon SDA Church 230 S. Columbus Avenue Mount Vernon NY 10553 United States;X-APPLE-RADIUS=500;X-TITLE=230 S. Columbus Avenue:geo:-73.8219186,40.9086934
END:VEVENT
BEGIN:VEVENT
DTSTART;TZID=America/New_York:20270912T120000
DTEND;TZID=America/New_York:20270912T143000
DTSTAMP:20260424T114344
CREATED:20260220T230534Z
LAST-MODIFIED:20260220T230714Z
UID:10003145-1820750400-1820759400@mtvernonsda.org
SUMMARY:Soup Kitchen
DESCRIPTION:EVERY SUNDAY\n12:00 – 2:00 PM | Community Distribution \n2:00- 2:30 PM | Church Member’s Distribution \nQuestions? Please contact admin@mtvernonsda.org
URL:https://mtvernonsda.org/event/soup-kitchen/2027-09-12/
LOCATION:Mount Vernon SDA Church\, 230 S. Columbus Avenue\, Mount Vernon\, NY\, 10553\, United States
CATEGORIES:community service
ATTACH;FMTTYPE=image/jpeg:https://mtvernonsda.org/wp-content/uploads/Image-1.jpeg
ORGANIZER;CN="Mount Vernon SDA Church":MAILTO:mtvsecretary@hotmail.com
GEO:40.9086934;-73.8219186
X-APPLE-STRUCTURED-LOCATION;VALUE=URI;X-ADDRESS=Mount Vernon SDA Church 230 S. Columbus Avenue Mount Vernon NY 10553 United States;X-APPLE-RADIUS=500;X-TITLE=230 S. Columbus Avenue:geo:-73.8219186,40.9086934
END:VEVENT
BEGIN:VEVENT
DTSTART;TZID=America/New_York:20270912T090000
DTEND;TZID=America/New_York:20270912T100000
DTSTAMP:20260424T114344
CREATED:20260404T005616Z
LAST-MODIFIED:20260404T005618Z
UID:10005352-1820739600-1820743200@mtvernonsda.org
SUMMARY:Rise & Grind with Gee
DESCRIPTION:We are offering virtual exercise classes on Sundays at 9:00 AM. Meet us on Zoom and don’t forget your weights\, mats and water!\nEmail: education@mtvernonsda.org to register and for info on how to join.
URL:https://mtvernonsda.org/event/rise-grind-with-gee-2-2/2027-09-12/
LOCATION:NY
ATTACH;FMTTYPE=image/png:https://mtvernonsda.org/wp-content/uploads/GTBL-1-2.png
END:VEVENT
BEGIN:VEVENT
DTSTART;TZID=America/New_York:20270910T120000
DTEND;TZID=America/New_York:20270910T123000
DTSTAMP:20260424T114344
CREATED:20260220T232205Z
LAST-MODIFIED:20260220T232209Z
UID:10004968-1820577600-1820579400@mtvernonsda.org
SUMMARY:Daily Prayer at Noon
DESCRIPTION:A church that prays together stays together! Join us for daily prayer. \nTo Join: Dial: 646-558-8656\, Code: 418142065#
URL:https://mtvernonsda.org/event/daily-prayer-at-noon-2/2027-09-10/
LOCATION:Mount Vernon SDA Church\, 230 S. Columbus Avenue\, Mount Vernon\, NY\, 10553\, United States
ORGANIZER;CN="Mount Vernon SDA Church":MAILTO:mtvsecretary@hotmail.com
GEO:40.9086934;-73.8219186
X-APPLE-STRUCTURED-LOCATION;VALUE=URI;X-ADDRESS=Mount Vernon SDA Church 230 S. Columbus Avenue Mount Vernon NY 10553 United States;X-APPLE-RADIUS=500;X-TITLE=230 S. Columbus Avenue:geo:-73.8219186,40.9086934
END:VEVENT
BEGIN:VEVENT
DTSTART;TZID=America/New_York:20270910T060000
DTEND;TZID=America/New_York:20270910T070000
DTSTAMP:20260424T114344
CREATED:20260220T044336Z
LAST-MODIFIED:20260220T044455Z
UID:10002349-1820556000-1820559600@mtvernonsda.org
SUMMARY:Friday Morning Devotion
DESCRIPTION:
URL:https://mtvernonsda.org/event/friday-morning-devotion/2027-09-10/
LOCATION:NY
ORGANIZER;CN="Mount Vernon SDA Church":MAILTO:mtvsecretary@hotmail.com
END:VEVENT
BEGIN:VEVENT
DTSTART;TZID=America/New_York:20270909T120000
DTEND;TZID=America/New_York:20270909T123000
DTSTAMP:20260424T114344
CREATED:20260220T232205Z
LAST-MODIFIED:20260220T232209Z
UID:10003742-1820491200-1820493000@mtvernonsda.org
SUMMARY:Daily Prayer at Noon
DESCRIPTION:A church that prays together stays together! Join us for daily prayer. \nTo Join: Dial: 646-558-8656\, Code: 418142065#
URL:https://mtvernonsda.org/event/daily-prayer-at-noon-2/2027-09-09/
LOCATION:Mount Vernon SDA Church\, 230 S. Columbus Avenue\, Mount Vernon\, NY\, 10553\, United States
ORGANIZER;CN="Mount Vernon SDA Church":MAILTO:mtvsecretary@hotmail.com
GEO:40.9086934;-73.8219186
X-APPLE-STRUCTURED-LOCATION;VALUE=URI;X-ADDRESS=Mount Vernon SDA Church 230 S. Columbus Avenue Mount Vernon NY 10553 United States;X-APPLE-RADIUS=500;X-TITLE=230 S. Columbus Avenue:geo:-73.8219186,40.9086934
END:VEVENT
BEGIN:VEVENT
DTSTART;TZID=America/New_York:20270909T070000
DTEND;TZID=America/New_York:20270909T080000
DTSTAMP:20260424T114344
CREATED:20260220T050517Z
LAST-MODIFIED:20260220T050517Z
UID:10002878-1820473200-1820476800@mtvernonsda.org
SUMMARY:Weekly Men's Ministry Call
DESCRIPTION:
URL:https://mtvernonsda.org/event/weekly-mens-ministry-call/2027-09-09/
LOCATION:NY
CATEGORIES:men's ministry
ATTACH;FMTTYPE=image/png:https://mtvernonsda.org/wp-content/uploads/full-2.png
ORGANIZER;CN="Mount Vernon SDA Church":MAILTO:mtvsecretary@hotmail.com
END:VEVENT
BEGIN:VEVENT
DTSTART;TZID=America/New_York:20270908T190000
DTEND;TZID=America/New_York:20270908T200000
DTSTAMP:20260424T114344
CREATED:20260220T044844Z
LAST-MODIFIED:20260220T044844Z
UID:10002612-1820430000-1820433600@mtvernonsda.org
SUMMARY:Worship on Wednesdays
DESCRIPTION:
URL:https://mtvernonsda.org/event/worship-on-wednesdays/2027-09-08/
LOCATION:NY
ORGANIZER;CN="Mount Vernon SDA Church":MAILTO:mtvsecretary@hotmail.com
END:VEVENT
BEGIN:VEVENT
DTSTART;TZID=America/New_York:20270908T120000
DTEND;TZID=America/New_York:20270908T123000
DTSTAMP:20260424T114344
CREATED:20260220T232205Z
LAST-MODIFIED:20260220T232209Z
UID:10003741-1820404800-1820406600@mtvernonsda.org
SUMMARY:Daily Prayer at Noon
DESCRIPTION:A church that prays together stays together! Join us for daily prayer. \nTo Join: Dial: 646-558-8656\, Code: 418142065#
URL:https://mtvernonsda.org/event/daily-prayer-at-noon-2/2027-09-08/
LOCATION:Mount Vernon SDA Church\, 230 S. Columbus Avenue\, Mount Vernon\, NY\, 10553\, United States
ORGANIZER;CN="Mount Vernon SDA Church":MAILTO:mtvsecretary@hotmail.com
GEO:40.9086934;-73.8219186
X-APPLE-STRUCTURED-LOCATION;VALUE=URI;X-ADDRESS=Mount Vernon SDA Church 230 S. Columbus Avenue Mount Vernon NY 10553 United States;X-APPLE-RADIUS=500;X-TITLE=230 S. Columbus Avenue:geo:-73.8219186,40.9086934
END:VEVENT
BEGIN:VEVENT
DTSTART;TZID=America/New_York:20270907T190000
DTEND;TZID=America/New_York:20270907T200000
DTSTAMP:20260424T114344
CREATED:20260220T051121Z
LAST-MODIFIED:20260220T051122Z
UID:10002214-1820343600-1820347200@mtvernonsda.org
SUMMARY:Bereavement Support Group Meeting
DESCRIPTION:
URL:https://mtvernonsda.org/event/bereavement-support-group-meeting-2/2027-09-07/
LOCATION:NY
ORGANIZER;CN="Mount Vernon SDA Church":MAILTO:mtvsecretary@hotmail.com
END:VEVENT
BEGIN:VEVENT
DTSTART;TZID=America/New_York:20270907T120000
DTEND;TZID=America/New_York:20270907T123000
DTSTAMP:20260424T114344
CREATED:20260220T232205Z
LAST-MODIFIED:20260220T232209Z
UID:10004967-1820318400-1820320200@mtvernonsda.org
SUMMARY:Daily Prayer at Noon
DESCRIPTION:A church that prays together stays together! Join us for daily prayer. \nTo Join: Dial: 646-558-8656\, Code: 418142065#
URL:https://mtvernonsda.org/event/daily-prayer-at-noon-2/2027-09-07/
LOCATION:Mount Vernon SDA Church\, 230 S. Columbus Avenue\, Mount Vernon\, NY\, 10553\, United States
ORGANIZER;CN="Mount Vernon SDA Church":MAILTO:mtvsecretary@hotmail.com
GEO:40.9086934;-73.8219186
X-APPLE-STRUCTURED-LOCATION;VALUE=URI;X-ADDRESS=Mount Vernon SDA Church 230 S. Columbus Avenue Mount Vernon NY 10553 United States;X-APPLE-RADIUS=500;X-TITLE=230 S. Columbus Avenue:geo:-73.8219186,40.9086934
END:VEVENT
BEGIN:VEVENT
DTSTART;TZID=America/New_York:20270906T120000
DTEND;TZID=America/New_York:20270906T123000
DTSTAMP:20260424T114344
CREATED:20260220T232205Z
LAST-MODIFIED:20260220T232209Z
UID:10004698-1820232000-1820233800@mtvernonsda.org
SUMMARY:Daily Prayer at Noon
DESCRIPTION:A church that prays together stays together! Join us for daily prayer. \nTo Join: Dial: 646-558-8656\, Code: 418142065#
URL:https://mtvernonsda.org/event/daily-prayer-at-noon-2/2027-09-06/
LOCATION:Mount Vernon SDA Church\, 230 S. Columbus Avenue\, Mount Vernon\, NY\, 10553\, United States
ORGANIZER;CN="Mount Vernon SDA Church":MAILTO:mtvsecretary@hotmail.com
GEO:40.9086934;-73.8219186
X-APPLE-STRUCTURED-LOCATION;VALUE=URI;X-ADDRESS=Mount Vernon SDA Church 230 S. Columbus Avenue Mount Vernon NY 10553 United States;X-APPLE-RADIUS=500;X-TITLE=230 S. Columbus Avenue:geo:-73.8219186,40.9086934
END:VEVENT
BEGIN:VEVENT
DTSTART;TZID=America/New_York:20270905T120000
DTEND;TZID=America/New_York:20270905T143000
DTSTAMP:20260424T114344
CREATED:20260220T230534Z
LAST-MODIFIED:20260220T230714Z
UID:10003144-1820145600-1820154600@mtvernonsda.org
SUMMARY:Soup Kitchen
DESCRIPTION:EVERY SUNDAY\n12:00 – 2:00 PM | Community Distribution \n2:00- 2:30 PM | Church Member’s Distribution \nQuestions? Please contact admin@mtvernonsda.org
URL:https://mtvernonsda.org/event/soup-kitchen/2027-09-05/
LOCATION:Mount Vernon SDA Church\, 230 S. Columbus Avenue\, Mount Vernon\, NY\, 10553\, United States
CATEGORIES:community service
ATTACH;FMTTYPE=image/jpeg:https://mtvernonsda.org/wp-content/uploads/Image-1.jpeg
ORGANIZER;CN="Mount Vernon SDA Church":MAILTO:mtvsecretary@hotmail.com
GEO:40.9086934;-73.8219186
X-APPLE-STRUCTURED-LOCATION;VALUE=URI;X-ADDRESS=Mount Vernon SDA Church 230 S. Columbus Avenue Mount Vernon NY 10553 United States;X-APPLE-RADIUS=500;X-TITLE=230 S. Columbus Avenue:geo:-73.8219186,40.9086934
END:VEVENT
BEGIN:VEVENT
DTSTART;TZID=America/New_York:20270905T090000
DTEND;TZID=America/New_York:20270905T100000
DTSTAMP:20260424T114344
CREATED:20260404T005616Z
LAST-MODIFIED:20260404T005618Z
UID:10005351-1820134800-1820138400@mtvernonsda.org
SUMMARY:Rise & Grind with Gee
DESCRIPTION:We are offering virtual exercise classes on Sundays at 9:00 AM. Meet us on Zoom and don’t forget your weights\, mats and water!\nEmail: education@mtvernonsda.org to register and for info on how to join.
URL:https://mtvernonsda.org/event/rise-grind-with-gee-2-2/2027-09-05/
LOCATION:NY
ATTACH;FMTTYPE=image/png:https://mtvernonsda.org/wp-content/uploads/GTBL-1-2.png
END:VEVENT
BEGIN:VEVENT
DTSTART;TZID=America/New_York:20270903T120000
DTEND;TZID=America/New_York:20270903T123000
DTSTAMP:20260424T114344
CREATED:20260220T232205Z
LAST-MODIFIED:20260220T232209Z
UID:10003738-1819972800-1819974600@mtvernonsda.org
SUMMARY:Daily Prayer at Noon
DESCRIPTION:A church that prays together stays together! Join us for daily prayer. \nTo Join: Dial: 646-558-8656\, Code: 418142065#
URL:https://mtvernonsda.org/event/daily-prayer-at-noon-2/2027-09-03/
LOCATION:Mount Vernon SDA Church\, 230 S. Columbus Avenue\, Mount Vernon\, NY\, 10553\, United States
ORGANIZER;CN="Mount Vernon SDA Church":MAILTO:mtvsecretary@hotmail.com
GEO:40.9086934;-73.8219186
X-APPLE-STRUCTURED-LOCATION;VALUE=URI;X-ADDRESS=Mount Vernon SDA Church 230 S. Columbus Avenue Mount Vernon NY 10553 United States;X-APPLE-RADIUS=500;X-TITLE=230 S. Columbus Avenue:geo:-73.8219186,40.9086934
END:VEVENT
BEGIN:VEVENT
DTSTART;TZID=America/New_York:20270903T060000
DTEND;TZID=America/New_York:20270903T070000
DTSTAMP:20260424T114344
CREATED:20260220T044336Z
LAST-MODIFIED:20260220T044455Z
UID:10002348-1819951200-1819954800@mtvernonsda.org
SUMMARY:Friday Morning Devotion
DESCRIPTION:
URL:https://mtvernonsda.org/event/friday-morning-devotion/2027-09-03/
LOCATION:NY
ORGANIZER;CN="Mount Vernon SDA Church":MAILTO:mtvsecretary@hotmail.com
END:VEVENT
END:VCALENDAR