BEGIN:VCALENDAR
VERSION:2.0
PRODID:-//Mt. Vernon SDA Church - ECPv6.15.20//NONSGML v1.0//EN
CALSCALE:GREGORIAN
METHOD:PUBLISH
X-ORIGINAL-URL:https://mtvernonsda.org
X-WR-CALDESC:Events for Mt. Vernon SDA Church
REFRESH-INTERVAL;VALUE=DURATION:PT1H
X-Robots-Tag:noindex
X-PUBLISHED-TTL:PT1H
BEGIN:VTIMEZONE
TZID:America/New_York
BEGIN:DAYLIGHT
TZOFFSETFROM:-0500
TZOFFSETTO:-0400
TZNAME:EDT
DTSTART:20250309T070000
END:DAYLIGHT
BEGIN:STANDARD
TZOFFSETFROM:-0400
TZOFFSETTO:-0500
TZNAME:EST
DTSTART:20251102T060000
END:STANDARD
BEGIN:DAYLIGHT
TZOFFSETFROM:-0500
TZOFFSETTO:-0400
TZNAME:EDT
DTSTART:20260308T070000
END:DAYLIGHT
BEGIN:STANDARD
TZOFFSETFROM:-0400
TZOFFSETTO:-0500
TZNAME:EST
DTSTART:20261101T060000
END:STANDARD
BEGIN:DAYLIGHT
TZOFFSETFROM:-0500
TZOFFSETTO:-0400
TZNAME:EDT
DTSTART:20270314T070000
END:DAYLIGHT
BEGIN:STANDARD
TZOFFSETFROM:-0400
TZOFFSETTO:-0500
TZNAME:EST
DTSTART:20271107T060000
END:STANDARD
END:VTIMEZONE
BEGIN:VEVENT
DTSTART;TZID=America/New_York:20260916T190000
DTEND;TZID=America/New_York:20260916T200000
DTSTAMP:20260423T195249
CREATED:20260220T044844Z
LAST-MODIFIED:20260220T044844Z
UID:10002561-1789585200-1789588800@mtvernonsda.org
SUMMARY:Worship on Wednesdays
DESCRIPTION:
URL:https://mtvernonsda.org/event/worship-on-wednesdays/2026-09-16/
LOCATION:NY
ORGANIZER;CN="Mount Vernon SDA Church":MAILTO:mtvsecretary@hotmail.com
END:VEVENT
BEGIN:VEVENT
DTSTART;TZID=America/New_York:20260916T120000
DTEND;TZID=America/New_York:20260916T123000
DTSTAMP:20260423T195249
CREATED:20260220T232205Z
LAST-MODIFIED:20260220T232209Z
UID:10003487-1789560000-1789561800@mtvernonsda.org
SUMMARY:Daily Prayer at Noon
DESCRIPTION:A church that prays together stays together! Join us for daily prayer. \nTo Join: Dial: 646-558-8656\, Code: 418142065#
URL:https://mtvernonsda.org/event/daily-prayer-at-noon-2/2026-09-16/
LOCATION:Mount Vernon SDA Church\, 230 S. Columbus Avenue\, Mount Vernon\, NY\, 10553\, United States
ORGANIZER;CN="Mount Vernon SDA Church":MAILTO:mtvsecretary@hotmail.com
GEO:40.9086934;-73.8219186
X-APPLE-STRUCTURED-LOCATION;VALUE=URI;X-ADDRESS=Mount Vernon SDA Church 230 S. Columbus Avenue Mount Vernon NY 10553 United States;X-APPLE-RADIUS=500;X-TITLE=230 S. Columbus Avenue:geo:-73.8219186,40.9086934
END:VEVENT
BEGIN:VEVENT
DTSTART;TZID=America/New_York:20260915T120000
DTEND;TZID=America/New_York:20260915T123000
DTSTAMP:20260423T195249
CREATED:20260220T232205Z
LAST-MODIFIED:20260220T232209Z
UID:10004882-1789473600-1789475400@mtvernonsda.org
SUMMARY:Daily Prayer at Noon
DESCRIPTION:A church that prays together stays together! Join us for daily prayer. \nTo Join: Dial: 646-558-8656\, Code: 418142065#
URL:https://mtvernonsda.org/event/daily-prayer-at-noon-2/2026-09-15/
LOCATION:Mount Vernon SDA Church\, 230 S. Columbus Avenue\, Mount Vernon\, NY\, 10553\, United States
ORGANIZER;CN="Mount Vernon SDA Church":MAILTO:mtvsecretary@hotmail.com
GEO:40.9086934;-73.8219186
X-APPLE-STRUCTURED-LOCATION;VALUE=URI;X-ADDRESS=Mount Vernon SDA Church 230 S. Columbus Avenue Mount Vernon NY 10553 United States;X-APPLE-RADIUS=500;X-TITLE=230 S. Columbus Avenue:geo:-73.8219186,40.9086934
END:VEVENT
BEGIN:VEVENT
DTSTART;TZID=America/New_York:20260914T120000
DTEND;TZID=America/New_York:20260914T123000
DTSTAMP:20260423T195249
CREATED:20260220T232205Z
LAST-MODIFIED:20260220T232209Z
UID:10004664-1789387200-1789389000@mtvernonsda.org
SUMMARY:Daily Prayer at Noon
DESCRIPTION:A church that prays together stays together! Join us for daily prayer. \nTo Join: Dial: 646-558-8656\, Code: 418142065#
URL:https://mtvernonsda.org/event/daily-prayer-at-noon-2/2026-09-14/
LOCATION:Mount Vernon SDA Church\, 230 S. Columbus Avenue\, Mount Vernon\, NY\, 10553\, United States
ORGANIZER;CN="Mount Vernon SDA Church":MAILTO:mtvsecretary@hotmail.com
GEO:40.9086934;-73.8219186
X-APPLE-STRUCTURED-LOCATION;VALUE=URI;X-ADDRESS=Mount Vernon SDA Church 230 S. Columbus Avenue Mount Vernon NY 10553 United States;X-APPLE-RADIUS=500;X-TITLE=230 S. Columbus Avenue:geo:-73.8219186,40.9086934
END:VEVENT
BEGIN:VEVENT
DTSTART;TZID=America/New_York:20260913T120000
DTEND;TZID=America/New_York:20260913T143000
DTSTAMP:20260423T195249
CREATED:20260220T230534Z
LAST-MODIFIED:20260220T230714Z
UID:10003093-1789300800-1789309800@mtvernonsda.org
SUMMARY:Soup Kitchen
DESCRIPTION:EVERY SUNDAY\n12:00 – 2:00 PM | Community Distribution \n2:00- 2:30 PM | Church Member’s Distribution \nQuestions? Please contact admin@mtvernonsda.org
URL:https://mtvernonsda.org/event/soup-kitchen/2026-09-13/
LOCATION:Mount Vernon SDA Church\, 230 S. Columbus Avenue\, Mount Vernon\, NY\, 10553\, United States
CATEGORIES:community service
ATTACH;FMTTYPE=image/jpeg:https://mtvernonsda.org/wp-content/uploads/Image-1.jpeg
ORGANIZER;CN="Mount Vernon SDA Church":MAILTO:mtvsecretary@hotmail.com
GEO:40.9086934;-73.8219186
X-APPLE-STRUCTURED-LOCATION;VALUE=URI;X-ADDRESS=Mount Vernon SDA Church 230 S. Columbus Avenue Mount Vernon NY 10553 United States;X-APPLE-RADIUS=500;X-TITLE=230 S. Columbus Avenue:geo:-73.8219186,40.9086934
END:VEVENT
BEGIN:VEVENT
DTSTART;TZID=America/New_York:20260913T090000
DTEND;TZID=America/New_York:20260913T100000
DTSTAMP:20260423T195249
CREATED:20260404T005616Z
LAST-MODIFIED:20260404T005618Z
UID:10005300-1789290000-1789293600@mtvernonsda.org
SUMMARY:Rise & Grind with Gee
DESCRIPTION:We are offering virtual exercise classes on Sundays at 9:00 AM. Meet us on Zoom and don’t forget your weights\, mats and water!\nEmail: education@mtvernonsda.org to register and for info on how to join.
URL:https://mtvernonsda.org/event/rise-grind-with-gee-2-2/2026-09-13/
LOCATION:NY
ATTACH;FMTTYPE=image/png:https://mtvernonsda.org/wp-content/uploads/GTBL-1-2.png
END:VEVENT
BEGIN:VEVENT
DTSTART;TZID=America/New_York:20260911T120000
DTEND;TZID=America/New_York:20260911T123000
DTSTAMP:20260423T195249
CREATED:20260220T232205Z
LAST-MODIFIED:20260220T232209Z
UID:10003484-1789128000-1789129800@mtvernonsda.org
SUMMARY:Daily Prayer at Noon
DESCRIPTION:A church that prays together stays together! Join us for daily prayer. \nTo Join: Dial: 646-558-8656\, Code: 418142065#
URL:https://mtvernonsda.org/event/daily-prayer-at-noon-2/2026-09-11/
LOCATION:Mount Vernon SDA Church\, 230 S. Columbus Avenue\, Mount Vernon\, NY\, 10553\, United States
ORGANIZER;CN="Mount Vernon SDA Church":MAILTO:mtvsecretary@hotmail.com
GEO:40.9086934;-73.8219186
X-APPLE-STRUCTURED-LOCATION;VALUE=URI;X-ADDRESS=Mount Vernon SDA Church 230 S. Columbus Avenue Mount Vernon NY 10553 United States;X-APPLE-RADIUS=500;X-TITLE=230 S. Columbus Avenue:geo:-73.8219186,40.9086934
END:VEVENT
BEGIN:VEVENT
DTSTART;TZID=America/New_York:20260911T060000
DTEND;TZID=America/New_York:20260911T070000
DTSTAMP:20260423T195249
CREATED:20260220T044336Z
LAST-MODIFIED:20260220T044455Z
UID:10002297-1789106400-1789110000@mtvernonsda.org
SUMMARY:Friday Morning Devotion
DESCRIPTION:
URL:https://mtvernonsda.org/event/friday-morning-devotion/2026-09-11/
LOCATION:NY
ORGANIZER;CN="Mount Vernon SDA Church":MAILTO:mtvsecretary@hotmail.com
END:VEVENT
BEGIN:VEVENT
DTSTART;TZID=America/New_York:20260910T120000
DTEND;TZID=America/New_York:20260910T123000
DTSTAMP:20260423T195249
CREATED:20260220T232205Z
LAST-MODIFIED:20260220T232209Z
UID:10004881-1789041600-1789043400@mtvernonsda.org
SUMMARY:Daily Prayer at Noon
DESCRIPTION:A church that prays together stays together! Join us for daily prayer. \nTo Join: Dial: 646-558-8656\, Code: 418142065#
URL:https://mtvernonsda.org/event/daily-prayer-at-noon-2/2026-09-10/
LOCATION:Mount Vernon SDA Church\, 230 S. Columbus Avenue\, Mount Vernon\, NY\, 10553\, United States
ORGANIZER;CN="Mount Vernon SDA Church":MAILTO:mtvsecretary@hotmail.com
GEO:40.9086934;-73.8219186
X-APPLE-STRUCTURED-LOCATION;VALUE=URI;X-ADDRESS=Mount Vernon SDA Church 230 S. Columbus Avenue Mount Vernon NY 10553 United States;X-APPLE-RADIUS=500;X-TITLE=230 S. Columbus Avenue:geo:-73.8219186,40.9086934
END:VEVENT
BEGIN:VEVENT
DTSTART;TZID=America/New_York:20260910T070000
DTEND;TZID=America/New_York:20260910T080000
DTSTAMP:20260423T195249
CREATED:20260220T050517Z
LAST-MODIFIED:20260220T050517Z
UID:10002826-1789023600-1789027200@mtvernonsda.org
SUMMARY:Weekly Men's Ministry Call
DESCRIPTION:
URL:https://mtvernonsda.org/event/weekly-mens-ministry-call/2026-09-10/
LOCATION:NY
CATEGORIES:men's ministry
ATTACH;FMTTYPE=image/png:https://mtvernonsda.org/wp-content/uploads/full-2.png
ORGANIZER;CN="Mount Vernon SDA Church":MAILTO:mtvsecretary@hotmail.com
END:VEVENT
BEGIN:VEVENT
DTSTART;TZID=America/New_York:20260909T190000
DTEND;TZID=America/New_York:20260909T200000
DTSTAMP:20260423T195249
CREATED:20260220T044844Z
LAST-MODIFIED:20260220T044844Z
UID:10002560-1788980400-1788984000@mtvernonsda.org
SUMMARY:Worship on Wednesdays
DESCRIPTION:
URL:https://mtvernonsda.org/event/worship-on-wednesdays/2026-09-09/
LOCATION:NY
ORGANIZER;CN="Mount Vernon SDA Church":MAILTO:mtvsecretary@hotmail.com
END:VEVENT
BEGIN:VEVENT
DTSTART;TZID=America/New_York:20260909T120000
DTEND;TZID=America/New_York:20260909T123000
DTSTAMP:20260423T195249
CREATED:20260220T232205Z
LAST-MODIFIED:20260220T232209Z
UID:10003482-1788955200-1788957000@mtvernonsda.org
SUMMARY:Daily Prayer at Noon
DESCRIPTION:A church that prays together stays together! Join us for daily prayer. \nTo Join: Dial: 646-558-8656\, Code: 418142065#
URL:https://mtvernonsda.org/event/daily-prayer-at-noon-2/2026-09-09/
LOCATION:Mount Vernon SDA Church\, 230 S. Columbus Avenue\, Mount Vernon\, NY\, 10553\, United States
ORGANIZER;CN="Mount Vernon SDA Church":MAILTO:mtvsecretary@hotmail.com
GEO:40.9086934;-73.8219186
X-APPLE-STRUCTURED-LOCATION;VALUE=URI;X-ADDRESS=Mount Vernon SDA Church 230 S. Columbus Avenue Mount Vernon NY 10553 United States;X-APPLE-RADIUS=500;X-TITLE=230 S. Columbus Avenue:geo:-73.8219186,40.9086934
END:VEVENT
BEGIN:VEVENT
DTSTART;TZID=America/New_York:20260908T120000
DTEND;TZID=America/New_York:20260908T123000
DTSTAMP:20260423T195249
CREATED:20260220T232205Z
LAST-MODIFIED:20260220T232209Z
UID:10003481-1788868800-1788870600@mtvernonsda.org
SUMMARY:Daily Prayer at Noon
DESCRIPTION:A church that prays together stays together! Join us for daily prayer. \nTo Join: Dial: 646-558-8656\, Code: 418142065#
URL:https://mtvernonsda.org/event/daily-prayer-at-noon-2/2026-09-08/
LOCATION:Mount Vernon SDA Church\, 230 S. Columbus Avenue\, Mount Vernon\, NY\, 10553\, United States
ORGANIZER;CN="Mount Vernon SDA Church":MAILTO:mtvsecretary@hotmail.com
GEO:40.9086934;-73.8219186
X-APPLE-STRUCTURED-LOCATION;VALUE=URI;X-ADDRESS=Mount Vernon SDA Church 230 S. Columbus Avenue Mount Vernon NY 10553 United States;X-APPLE-RADIUS=500;X-TITLE=230 S. Columbus Avenue:geo:-73.8219186,40.9086934
END:VEVENT
BEGIN:VEVENT
DTSTART;TZID=America/New_York:20260907T120000
DTEND;TZID=America/New_York:20260907T123000
DTSTAMP:20260423T195249
CREATED:20260220T232205Z
LAST-MODIFIED:20260220T232209Z
UID:10004663-1788782400-1788784200@mtvernonsda.org
SUMMARY:Daily Prayer at Noon
DESCRIPTION:A church that prays together stays together! Join us for daily prayer. \nTo Join: Dial: 646-558-8656\, Code: 418142065#
URL:https://mtvernonsda.org/event/daily-prayer-at-noon-2/2026-09-07/
LOCATION:Mount Vernon SDA Church\, 230 S. Columbus Avenue\, Mount Vernon\, NY\, 10553\, United States
ORGANIZER;CN="Mount Vernon SDA Church":MAILTO:mtvsecretary@hotmail.com
GEO:40.9086934;-73.8219186
X-APPLE-STRUCTURED-LOCATION;VALUE=URI;X-ADDRESS=Mount Vernon SDA Church 230 S. Columbus Avenue Mount Vernon NY 10553 United States;X-APPLE-RADIUS=500;X-TITLE=230 S. Columbus Avenue:geo:-73.8219186,40.9086934
END:VEVENT
BEGIN:VEVENT
DTSTART;TZID=America/New_York:20260906T120000
DTEND;TZID=America/New_York:20260906T143000
DTSTAMP:20260423T195249
CREATED:20260220T230534Z
LAST-MODIFIED:20260220T230714Z
UID:10003092-1788696000-1788705000@mtvernonsda.org
SUMMARY:Soup Kitchen
DESCRIPTION:EVERY SUNDAY\n12:00 – 2:00 PM | Community Distribution \n2:00- 2:30 PM | Church Member’s Distribution \nQuestions? Please contact admin@mtvernonsda.org
URL:https://mtvernonsda.org/event/soup-kitchen/2026-09-06/
LOCATION:Mount Vernon SDA Church\, 230 S. Columbus Avenue\, Mount Vernon\, NY\, 10553\, United States
CATEGORIES:community service
ATTACH;FMTTYPE=image/jpeg:https://mtvernonsda.org/wp-content/uploads/Image-1.jpeg
ORGANIZER;CN="Mount Vernon SDA Church":MAILTO:mtvsecretary@hotmail.com
GEO:40.9086934;-73.8219186
X-APPLE-STRUCTURED-LOCATION;VALUE=URI;X-ADDRESS=Mount Vernon SDA Church 230 S. Columbus Avenue Mount Vernon NY 10553 United States;X-APPLE-RADIUS=500;X-TITLE=230 S. Columbus Avenue:geo:-73.8219186,40.9086934
END:VEVENT
BEGIN:VEVENT
DTSTART;TZID=America/New_York:20260906T090000
DTEND;TZID=America/New_York:20260906T100000
DTSTAMP:20260423T195249
CREATED:20260404T005616Z
LAST-MODIFIED:20260404T005618Z
UID:10005299-1788685200-1788688800@mtvernonsda.org
SUMMARY:Rise & Grind with Gee
DESCRIPTION:We are offering virtual exercise classes on Sundays at 9:00 AM. Meet us on Zoom and don’t forget your weights\, mats and water!\nEmail: education@mtvernonsda.org to register and for info on how to join.
URL:https://mtvernonsda.org/event/rise-grind-with-gee-2-2/2026-09-06/
LOCATION:NY
ATTACH;FMTTYPE=image/png:https://mtvernonsda.org/wp-content/uploads/GTBL-1-2.png
END:VEVENT
BEGIN:VEVENT
DTSTART;TZID=America/New_York:20260904T120000
DTEND;TZID=America/New_York:20260904T123000
DTSTAMP:20260423T195249
CREATED:20260220T232205Z
LAST-MODIFIED:20260220T232209Z
UID:10003479-1788523200-1788525000@mtvernonsda.org
SUMMARY:Daily Prayer at Noon
DESCRIPTION:A church that prays together stays together! Join us for daily prayer. \nTo Join: Dial: 646-558-8656\, Code: 418142065#
URL:https://mtvernonsda.org/event/daily-prayer-at-noon-2/2026-09-04/
LOCATION:Mount Vernon SDA Church\, 230 S. Columbus Avenue\, Mount Vernon\, NY\, 10553\, United States
ORGANIZER;CN="Mount Vernon SDA Church":MAILTO:mtvsecretary@hotmail.com
GEO:40.9086934;-73.8219186
X-APPLE-STRUCTURED-LOCATION;VALUE=URI;X-ADDRESS=Mount Vernon SDA Church 230 S. Columbus Avenue Mount Vernon NY 10553 United States;X-APPLE-RADIUS=500;X-TITLE=230 S. Columbus Avenue:geo:-73.8219186,40.9086934
END:VEVENT
BEGIN:VEVENT
DTSTART;TZID=America/New_York:20260904T060000
DTEND;TZID=America/New_York:20260904T070000
DTSTAMP:20260423T195249
CREATED:20260220T044336Z
LAST-MODIFIED:20260220T044455Z
UID:10002296-1788501600-1788505200@mtvernonsda.org
SUMMARY:Friday Morning Devotion
DESCRIPTION:
URL:https://mtvernonsda.org/event/friday-morning-devotion/2026-09-04/
LOCATION:NY
ORGANIZER;CN="Mount Vernon SDA Church":MAILTO:mtvsecretary@hotmail.com
END:VEVENT
BEGIN:VEVENT
DTSTART;TZID=America/New_York:20260903T120000
DTEND;TZID=America/New_York:20260903T123000
DTSTAMP:20260423T195249
CREATED:20260220T232205Z
LAST-MODIFIED:20260220T232209Z
UID:10003478-1788436800-1788438600@mtvernonsda.org
SUMMARY:Daily Prayer at Noon
DESCRIPTION:A church that prays together stays together! Join us for daily prayer. \nTo Join: Dial: 646-558-8656\, Code: 418142065#
URL:https://mtvernonsda.org/event/daily-prayer-at-noon-2/2026-09-03/
LOCATION:Mount Vernon SDA Church\, 230 S. Columbus Avenue\, Mount Vernon\, NY\, 10553\, United States
ORGANIZER;CN="Mount Vernon SDA Church":MAILTO:mtvsecretary@hotmail.com
GEO:40.9086934;-73.8219186
X-APPLE-STRUCTURED-LOCATION;VALUE=URI;X-ADDRESS=Mount Vernon SDA Church 230 S. Columbus Avenue Mount Vernon NY 10553 United States;X-APPLE-RADIUS=500;X-TITLE=230 S. Columbus Avenue:geo:-73.8219186,40.9086934
END:VEVENT
BEGIN:VEVENT
DTSTART;TZID=America/New_York:20260903T070000
DTEND;TZID=America/New_York:20260903T080000
DTSTAMP:20260423T195249
CREATED:20260220T050517Z
LAST-MODIFIED:20260220T050517Z
UID:10002825-1788418800-1788422400@mtvernonsda.org
SUMMARY:Weekly Men's Ministry Call
DESCRIPTION:
URL:https://mtvernonsda.org/event/weekly-mens-ministry-call/2026-09-03/
LOCATION:NY
CATEGORIES:men's ministry
ATTACH;FMTTYPE=image/png:https://mtvernonsda.org/wp-content/uploads/full-2.png
ORGANIZER;CN="Mount Vernon SDA Church":MAILTO:mtvsecretary@hotmail.com
END:VEVENT
BEGIN:VEVENT
DTSTART;TZID=America/New_York:20260902T190000
DTEND;TZID=America/New_York:20260902T200000
DTSTAMP:20260423T195249
CREATED:20260220T044844Z
LAST-MODIFIED:20260220T044844Z
UID:10002559-1788375600-1788379200@mtvernonsda.org
SUMMARY:Worship on Wednesdays
DESCRIPTION:
URL:https://mtvernonsda.org/event/worship-on-wednesdays/2026-09-02/
LOCATION:NY
ORGANIZER;CN="Mount Vernon SDA Church":MAILTO:mtvsecretary@hotmail.com
END:VEVENT
BEGIN:VEVENT
DTSTART;TZID=America/New_York:20260902T120000
DTEND;TZID=America/New_York:20260902T123000
DTSTAMP:20260423T195249
CREATED:20260220T232205Z
LAST-MODIFIED:20260220T232209Z
UID:10003477-1788350400-1788352200@mtvernonsda.org
SUMMARY:Daily Prayer at Noon
DESCRIPTION:A church that prays together stays together! Join us for daily prayer. \nTo Join: Dial: 646-558-8656\, Code: 418142065#
URL:https://mtvernonsda.org/event/daily-prayer-at-noon-2/2026-09-02/
LOCATION:Mount Vernon SDA Church\, 230 S. Columbus Avenue\, Mount Vernon\, NY\, 10553\, United States
ORGANIZER;CN="Mount Vernon SDA Church":MAILTO:mtvsecretary@hotmail.com
GEO:40.9086934;-73.8219186
X-APPLE-STRUCTURED-LOCATION;VALUE=URI;X-ADDRESS=Mount Vernon SDA Church 230 S. Columbus Avenue Mount Vernon NY 10553 United States;X-APPLE-RADIUS=500;X-TITLE=230 S. Columbus Avenue:geo:-73.8219186,40.9086934
END:VEVENT
BEGIN:VEVENT
DTSTART;TZID=America/New_York:20260901T190000
DTEND;TZID=America/New_York:20260901T200000
DTSTAMP:20260423T195249
CREATED:20260220T051121Z
LAST-MODIFIED:20260220T051122Z
UID:10002202-1788289200-1788292800@mtvernonsda.org
SUMMARY:Bereavement Support Group Meeting
DESCRIPTION:
URL:https://mtvernonsda.org/event/bereavement-support-group-meeting-2/2026-09-01/
LOCATION:NY
ORGANIZER;CN="Mount Vernon SDA Church":MAILTO:mtvsecretary@hotmail.com
END:VEVENT
BEGIN:VEVENT
DTSTART;TZID=America/New_York:20260901T120000
DTEND;TZID=America/New_York:20260901T123000
DTSTAMP:20260423T195249
CREATED:20260220T232205Z
LAST-MODIFIED:20260220T232209Z
UID:10003476-1788264000-1788265800@mtvernonsda.org
SUMMARY:Daily Prayer at Noon
DESCRIPTION:A church that prays together stays together! Join us for daily prayer. \nTo Join: Dial: 646-558-8656\, Code: 418142065#
URL:https://mtvernonsda.org/event/daily-prayer-at-noon-2/2026-09-01/
LOCATION:Mount Vernon SDA Church\, 230 S. Columbus Avenue\, Mount Vernon\, NY\, 10553\, United States
ORGANIZER;CN="Mount Vernon SDA Church":MAILTO:mtvsecretary@hotmail.com
GEO:40.9086934;-73.8219186
X-APPLE-STRUCTURED-LOCATION;VALUE=URI;X-ADDRESS=Mount Vernon SDA Church 230 S. Columbus Avenue Mount Vernon NY 10553 United States;X-APPLE-RADIUS=500;X-TITLE=230 S. Columbus Avenue:geo:-73.8219186,40.9086934
END:VEVENT
BEGIN:VEVENT
DTSTART;TZID=America/New_York:20260831T120000
DTEND;TZID=America/New_York:20260831T123000
DTSTAMP:20260423T195249
CREATED:20260220T232205Z
LAST-MODIFIED:20260220T232209Z
UID:10004880-1788177600-1788179400@mtvernonsda.org
SUMMARY:Daily Prayer at Noon
DESCRIPTION:A church that prays together stays together! Join us for daily prayer. \nTo Join: Dial: 646-558-8656\, Code: 418142065#
URL:https://mtvernonsda.org/event/daily-prayer-at-noon-2/2026-08-31/
LOCATION:Mount Vernon SDA Church\, 230 S. Columbus Avenue\, Mount Vernon\, NY\, 10553\, United States
ORGANIZER;CN="Mount Vernon SDA Church":MAILTO:mtvsecretary@hotmail.com
GEO:40.9086934;-73.8219186
X-APPLE-STRUCTURED-LOCATION;VALUE=URI;X-ADDRESS=Mount Vernon SDA Church 230 S. Columbus Avenue Mount Vernon NY 10553 United States;X-APPLE-RADIUS=500;X-TITLE=230 S. Columbus Avenue:geo:-73.8219186,40.9086934
END:VEVENT
BEGIN:VEVENT
DTSTART;TZID=America/New_York:20260830T120000
DTEND;TZID=America/New_York:20260830T143000
DTSTAMP:20260423T195249
CREATED:20260220T230534Z
LAST-MODIFIED:20260220T230714Z
UID:10003091-1788091200-1788100200@mtvernonsda.org
SUMMARY:Soup Kitchen
DESCRIPTION:EVERY SUNDAY\n12:00 – 2:00 PM | Community Distribution \n2:00- 2:30 PM | Church Member’s Distribution \nQuestions? Please contact admin@mtvernonsda.org
URL:https://mtvernonsda.org/event/soup-kitchen/2026-08-30/
LOCATION:Mount Vernon SDA Church\, 230 S. Columbus Avenue\, Mount Vernon\, NY\, 10553\, United States
CATEGORIES:community service
ATTACH;FMTTYPE=image/jpeg:https://mtvernonsda.org/wp-content/uploads/Image-1.jpeg
ORGANIZER;CN="Mount Vernon SDA Church":MAILTO:mtvsecretary@hotmail.com
GEO:40.9086934;-73.8219186
X-APPLE-STRUCTURED-LOCATION;VALUE=URI;X-ADDRESS=Mount Vernon SDA Church 230 S. Columbus Avenue Mount Vernon NY 10553 United States;X-APPLE-RADIUS=500;X-TITLE=230 S. Columbus Avenue:geo:-73.8219186,40.9086934
END:VEVENT
BEGIN:VEVENT
DTSTART;TZID=America/New_York:20260830T090000
DTEND;TZID=America/New_York:20260830T100000
DTSTAMP:20260423T195249
CREATED:20260404T005616Z
LAST-MODIFIED:20260404T005618Z
UID:10005298-1788080400-1788084000@mtvernonsda.org
SUMMARY:Rise & Grind with Gee
DESCRIPTION:We are offering virtual exercise classes on Sundays at 9:00 AM. Meet us on Zoom and don’t forget your weights\, mats and water!\nEmail: education@mtvernonsda.org to register and for info on how to join.
URL:https://mtvernonsda.org/event/rise-grind-with-gee-2-2/2026-08-30/
LOCATION:NY
ATTACH;FMTTYPE=image/png:https://mtvernonsda.org/wp-content/uploads/GTBL-1-2.png
END:VEVENT
BEGIN:VEVENT
DTSTART;TZID=America/New_York:20260828T120000
DTEND;TZID=America/New_York:20260828T123000
DTSTAMP:20260423T195249
CREATED:20260220T232205Z
LAST-MODIFIED:20260220T232209Z
UID:10003473-1787918400-1787920200@mtvernonsda.org
SUMMARY:Daily Prayer at Noon
DESCRIPTION:A church that prays together stays together! Join us for daily prayer. \nTo Join: Dial: 646-558-8656\, Code: 418142065#
URL:https://mtvernonsda.org/event/daily-prayer-at-noon-2/2026-08-28/
LOCATION:Mount Vernon SDA Church\, 230 S. Columbus Avenue\, Mount Vernon\, NY\, 10553\, United States
ORGANIZER;CN="Mount Vernon SDA Church":MAILTO:mtvsecretary@hotmail.com
GEO:40.9086934;-73.8219186
X-APPLE-STRUCTURED-LOCATION;VALUE=URI;X-ADDRESS=Mount Vernon SDA Church 230 S. Columbus Avenue Mount Vernon NY 10553 United States;X-APPLE-RADIUS=500;X-TITLE=230 S. Columbus Avenue:geo:-73.8219186,40.9086934
END:VEVENT
BEGIN:VEVENT
DTSTART;TZID=America/New_York:20260828T060000
DTEND;TZID=America/New_York:20260828T070000
DTSTAMP:20260423T195249
CREATED:20260220T044336Z
LAST-MODIFIED:20260220T044455Z
UID:10002295-1787896800-1787900400@mtvernonsda.org
SUMMARY:Friday Morning Devotion
DESCRIPTION:
URL:https://mtvernonsda.org/event/friday-morning-devotion/2026-08-28/
LOCATION:NY
ORGANIZER;CN="Mount Vernon SDA Church":MAILTO:mtvsecretary@hotmail.com
END:VEVENT
BEGIN:VEVENT
DTSTART;TZID=America/New_York:20260827T120000
DTEND;TZID=America/New_York:20260827T123000
DTSTAMP:20260423T195249
CREATED:20260220T232205Z
LAST-MODIFIED:20260220T232209Z
UID:10003472-1787832000-1787833800@mtvernonsda.org
SUMMARY:Daily Prayer at Noon
DESCRIPTION:A church that prays together stays together! Join us for daily prayer. \nTo Join: Dial: 646-558-8656\, Code: 418142065#
URL:https://mtvernonsda.org/event/daily-prayer-at-noon-2/2026-08-27/
LOCATION:Mount Vernon SDA Church\, 230 S. Columbus Avenue\, Mount Vernon\, NY\, 10553\, United States
ORGANIZER;CN="Mount Vernon SDA Church":MAILTO:mtvsecretary@hotmail.com
GEO:40.9086934;-73.8219186
X-APPLE-STRUCTURED-LOCATION;VALUE=URI;X-ADDRESS=Mount Vernon SDA Church 230 S. Columbus Avenue Mount Vernon NY 10553 United States;X-APPLE-RADIUS=500;X-TITLE=230 S. Columbus Avenue:geo:-73.8219186,40.9086934
END:VEVENT
END:VCALENDAR