BEGIN:VCALENDAR
VERSION:2.0
PRODID:-//Mt. Vernon SDA Church - ECPv6.15.20//NONSGML v1.0//EN
CALSCALE:GREGORIAN
METHOD:PUBLISH
X-ORIGINAL-URL:https://mtvernonsda.org
X-WR-CALDESC:Events for Mt. Vernon SDA Church
REFRESH-INTERVAL;VALUE=DURATION:PT1H
X-Robots-Tag:noindex
X-PUBLISHED-TTL:PT1H
BEGIN:VTIMEZONE
TZID:America/New_York
BEGIN:DAYLIGHT
TZOFFSETFROM:-0500
TZOFFSETTO:-0400
TZNAME:EDT
DTSTART:20250309T070000
END:DAYLIGHT
BEGIN:STANDARD
TZOFFSETFROM:-0400
TZOFFSETTO:-0500
TZNAME:EST
DTSTART:20251102T060000
END:STANDARD
BEGIN:DAYLIGHT
TZOFFSETFROM:-0500
TZOFFSETTO:-0400
TZNAME:EDT
DTSTART:20260308T070000
END:DAYLIGHT
BEGIN:STANDARD
TZOFFSETFROM:-0400
TZOFFSETTO:-0500
TZNAME:EST
DTSTART:20261101T060000
END:STANDARD
BEGIN:DAYLIGHT
TZOFFSETFROM:-0500
TZOFFSETTO:-0400
TZNAME:EDT
DTSTART:20270314T070000
END:DAYLIGHT
BEGIN:STANDARD
TZOFFSETFROM:-0400
TZOFFSETTO:-0500
TZNAME:EST
DTSTART:20271107T060000
END:STANDARD
END:VTIMEZONE
BEGIN:VEVENT
DTSTART;TZID=America/New_York:20260529T120000
DTEND;TZID=America/New_York:20260529T123000
DTSTAMP:20260423T184850
CREATED:20260220T232205Z
LAST-MODIFIED:20260220T232209Z
UID:10003408-1780056000-1780057800@mtvernonsda.org
SUMMARY:Daily Prayer at Noon
DESCRIPTION:A church that prays together stays together! Join us for daily prayer. \nTo Join: Dial: 646-558-8656\, Code: 418142065#
URL:https://mtvernonsda.org/event/daily-prayer-at-noon-2/2026-05-29/
LOCATION:Mount Vernon SDA Church\, 230 S. Columbus Avenue\, Mount Vernon\, NY\, 10553\, United States
ORGANIZER;CN="Mount Vernon SDA Church":MAILTO:mtvsecretary@hotmail.com
GEO:40.9086934;-73.8219186
X-APPLE-STRUCTURED-LOCATION;VALUE=URI;X-ADDRESS=Mount Vernon SDA Church 230 S. Columbus Avenue Mount Vernon NY 10553 United States;X-APPLE-RADIUS=500;X-TITLE=230 S. Columbus Avenue:geo:-73.8219186,40.9086934
END:VEVENT
BEGIN:VEVENT
DTSTART;TZID=America/New_York:20260531T090000
DTEND;TZID=America/New_York:20260531T100000
DTSTAMP:20260423T184850
CREATED:20260404T005616Z
LAST-MODIFIED:20260404T005618Z
UID:10005285-1780218000-1780221600@mtvernonsda.org
SUMMARY:Rise & Grind with Gee
DESCRIPTION:We are offering virtual exercise classes on Sundays at 9:00 AM. Meet us on Zoom and don’t forget your weights\, mats and water!\nEmail: education@mtvernonsda.org to register and for info on how to join.
URL:https://mtvernonsda.org/event/rise-grind-with-gee-2-2/2026-05-31/
ATTACH;FMTTYPE=image/png:https://mtvernonsda.org/wp-content/uploads/GTBL-1-2.png
END:VEVENT
BEGIN:VEVENT
DTSTART;TZID=America/New_York:20260531T120000
DTEND;TZID=America/New_York:20260531T143000
DTSTAMP:20260423T184850
CREATED:20260220T230534Z
LAST-MODIFIED:20260220T230714Z
UID:10003078-1780228800-1780237800@mtvernonsda.org
SUMMARY:Soup Kitchen
DESCRIPTION:EVERY SUNDAY\n12:00 – 2:00 PM | Community Distribution \n2:00- 2:30 PM | Church Member’s Distribution \nQuestions? Please contact admin@mtvernonsda.org
URL:https://mtvernonsda.org/event/soup-kitchen/2026-05-31/
LOCATION:Mount Vernon SDA Church\, 230 S. Columbus Avenue\, Mount Vernon\, NY\, 10553\, United States
CATEGORIES:community service
ATTACH;FMTTYPE=image/jpeg:https://mtvernonsda.org/wp-content/uploads/Image-1.jpeg
ORGANIZER;CN="Mount Vernon SDA Church":MAILTO:mtvsecretary@hotmail.com
GEO:40.9086934;-73.8219186
X-APPLE-STRUCTURED-LOCATION;VALUE=URI;X-ADDRESS=Mount Vernon SDA Church 230 S. Columbus Avenue Mount Vernon NY 10553 United States;X-APPLE-RADIUS=500;X-TITLE=230 S. Columbus Avenue:geo:-73.8219186,40.9086934
END:VEVENT
BEGIN:VEVENT
DTSTART;TZID=America/New_York:20260601T120000
DTEND;TZID=America/New_York:20260601T123000
DTSTAMP:20260423T184851
CREATED:20260220T232205Z
LAST-MODIFIED:20260220T232209Z
UID:10004654-1780315200-1780317000@mtvernonsda.org
SUMMARY:Daily Prayer at Noon
DESCRIPTION:A church that prays together stays together! Join us for daily prayer. \nTo Join: Dial: 646-558-8656\, Code: 418142065#
URL:https://mtvernonsda.org/event/daily-prayer-at-noon-2/2026-06-01/
LOCATION:Mount Vernon SDA Church\, 230 S. Columbus Avenue\, Mount Vernon\, NY\, 10553\, United States
ORGANIZER;CN="Mount Vernon SDA Church":MAILTO:mtvsecretary@hotmail.com
GEO:40.9086934;-73.8219186
X-APPLE-STRUCTURED-LOCATION;VALUE=URI;X-ADDRESS=Mount Vernon SDA Church 230 S. Columbus Avenue Mount Vernon NY 10553 United States;X-APPLE-RADIUS=500;X-TITLE=230 S. Columbus Avenue:geo:-73.8219186,40.9086934
END:VEVENT
BEGIN:VEVENT
DTSTART;TZID=America/New_York:20260602T120000
DTEND;TZID=America/New_York:20260602T123000
DTSTAMP:20260423T184851
CREATED:20260220T232205Z
LAST-MODIFIED:20260220T232209Z
UID:10004858-1780401600-1780403400@mtvernonsda.org
SUMMARY:Daily Prayer at Noon
DESCRIPTION:A church that prays together stays together! Join us for daily prayer. \nTo Join: Dial: 646-558-8656\, Code: 418142065#
URL:https://mtvernonsda.org/event/daily-prayer-at-noon-2/2026-06-02/
LOCATION:Mount Vernon SDA Church\, 230 S. Columbus Avenue\, Mount Vernon\, NY\, 10553\, United States
ORGANIZER;CN="Mount Vernon SDA Church":MAILTO:mtvsecretary@hotmail.com
GEO:40.9086934;-73.8219186
X-APPLE-STRUCTURED-LOCATION;VALUE=URI;X-ADDRESS=Mount Vernon SDA Church 230 S. Columbus Avenue Mount Vernon NY 10553 United States;X-APPLE-RADIUS=500;X-TITLE=230 S. Columbus Avenue:geo:-73.8219186,40.9086934
END:VEVENT
BEGIN:VEVENT
DTSTART;TZID=America/New_York:20260602T190000
DTEND;TZID=America/New_York:20260602T200000
DTSTAMP:20260423T184851
CREATED:20260220T051121Z
LAST-MODIFIED:20260220T051122Z
UID:10002199-1780426800-1780430400@mtvernonsda.org
SUMMARY:Bereavement Support Group Meeting
DESCRIPTION:
URL:https://mtvernonsda.org/event/bereavement-support-group-meeting-2/2026-06-02/
ORGANIZER;CN="Mount Vernon SDA Church":MAILTO:mtvsecretary@hotmail.com
END:VEVENT
BEGIN:VEVENT
DTSTART;TZID=America/New_York:20260603T120000
DTEND;TZID=America/New_York:20260603T123000
DTSTAMP:20260423T184851
CREATED:20260220T232205Z
LAST-MODIFIED:20260220T232209Z
UID:10003411-1780488000-1780489800@mtvernonsda.org
SUMMARY:Daily Prayer at Noon
DESCRIPTION:A church that prays together stays together! Join us for daily prayer. \nTo Join: Dial: 646-558-8656\, Code: 418142065#
URL:https://mtvernonsda.org/event/daily-prayer-at-noon-2/2026-06-03/
LOCATION:Mount Vernon SDA Church\, 230 S. Columbus Avenue\, Mount Vernon\, NY\, 10553\, United States
ORGANIZER;CN="Mount Vernon SDA Church":MAILTO:mtvsecretary@hotmail.com
GEO:40.9086934;-73.8219186
X-APPLE-STRUCTURED-LOCATION;VALUE=URI;X-ADDRESS=Mount Vernon SDA Church 230 S. Columbus Avenue Mount Vernon NY 10553 United States;X-APPLE-RADIUS=500;X-TITLE=230 S. Columbus Avenue:geo:-73.8219186,40.9086934
END:VEVENT
BEGIN:VEVENT
DTSTART;TZID=America/New_York:20260603T190000
DTEND;TZID=America/New_York:20260603T200000
DTSTAMP:20260423T184851
CREATED:20260220T044844Z
LAST-MODIFIED:20260220T044844Z
UID:10002546-1780513200-1780516800@mtvernonsda.org
SUMMARY:Worship on Wednesdays
DESCRIPTION:
URL:https://mtvernonsda.org/event/worship-on-wednesdays/2026-06-03/
ORGANIZER;CN="Mount Vernon SDA Church":MAILTO:mtvsecretary@hotmail.com
END:VEVENT
BEGIN:VEVENT
DTSTART;TZID=America/New_York:20260604T070000
DTEND;TZID=America/New_York:20260604T080000
DTSTAMP:20260423T184851
CREATED:20260220T050517Z
LAST-MODIFIED:20260220T050517Z
UID:10002812-1780556400-1780560000@mtvernonsda.org
SUMMARY:Weekly Men's Ministry Call
DESCRIPTION:
URL:https://mtvernonsda.org/event/weekly-mens-ministry-call/2026-06-04/
CATEGORIES:men's ministry
ATTACH;FMTTYPE=image/png:https://mtvernonsda.org/wp-content/uploads/full-2.png
ORGANIZER;CN="Mount Vernon SDA Church":MAILTO:mtvsecretary@hotmail.com
END:VEVENT
BEGIN:VEVENT
DTSTART;TZID=America/New_York:20260604T120000
DTEND;TZID=America/New_York:20260604T123000
DTSTAMP:20260423T184851
CREATED:20260220T232205Z
LAST-MODIFIED:20260220T232209Z
UID:10003412-1780574400-1780576200@mtvernonsda.org
SUMMARY:Daily Prayer at Noon
DESCRIPTION:A church that prays together stays together! Join us for daily prayer. \nTo Join: Dial: 646-558-8656\, Code: 418142065#
URL:https://mtvernonsda.org/event/daily-prayer-at-noon-2/2026-06-04/
LOCATION:Mount Vernon SDA Church\, 230 S. Columbus Avenue\, Mount Vernon\, NY\, 10553\, United States
ORGANIZER;CN="Mount Vernon SDA Church":MAILTO:mtvsecretary@hotmail.com
GEO:40.9086934;-73.8219186
X-APPLE-STRUCTURED-LOCATION;VALUE=URI;X-ADDRESS=Mount Vernon SDA Church 230 S. Columbus Avenue Mount Vernon NY 10553 United States;X-APPLE-RADIUS=500;X-TITLE=230 S. Columbus Avenue:geo:-73.8219186,40.9086934
END:VEVENT
BEGIN:VEVENT
DTSTART;TZID=America/New_York:20260605T060000
DTEND;TZID=America/New_York:20260605T070000
DTSTAMP:20260423T184851
CREATED:20260220T044336Z
LAST-MODIFIED:20260220T044455Z
UID:10002283-1780639200-1780642800@mtvernonsda.org
SUMMARY:Friday Morning Devotion
DESCRIPTION:
URL:https://mtvernonsda.org/event/friday-morning-devotion/2026-06-05/
ORGANIZER;CN="Mount Vernon SDA Church":MAILTO:mtvsecretary@hotmail.com
END:VEVENT
BEGIN:VEVENT
DTSTART;TZID=America/New_York:20260605T120000
DTEND;TZID=America/New_York:20260605T123000
DTSTAMP:20260423T184851
CREATED:20260220T232205Z
LAST-MODIFIED:20260220T232209Z
UID:10003413-1780660800-1780662600@mtvernonsda.org
SUMMARY:Daily Prayer at Noon
DESCRIPTION:A church that prays together stays together! Join us for daily prayer. \nTo Join: Dial: 646-558-8656\, Code: 418142065#
URL:https://mtvernonsda.org/event/daily-prayer-at-noon-2/2026-06-05/
LOCATION:Mount Vernon SDA Church\, 230 S. Columbus Avenue\, Mount Vernon\, NY\, 10553\, United States
ORGANIZER;CN="Mount Vernon SDA Church":MAILTO:mtvsecretary@hotmail.com
GEO:40.9086934;-73.8219186
X-APPLE-STRUCTURED-LOCATION;VALUE=URI;X-ADDRESS=Mount Vernon SDA Church 230 S. Columbus Avenue Mount Vernon NY 10553 United States;X-APPLE-RADIUS=500;X-TITLE=230 S. Columbus Avenue:geo:-73.8219186,40.9086934
END:VEVENT
BEGIN:VEVENT
DTSTART;TZID=America/New_York:20260607T090000
DTEND;TZID=America/New_York:20260607T100000
DTSTAMP:20260423T184851
CREATED:20260404T005616Z
LAST-MODIFIED:20260404T005618Z
UID:10005286-1780822800-1780826400@mtvernonsda.org
SUMMARY:Rise & Grind with Gee
DESCRIPTION:We are offering virtual exercise classes on Sundays at 9:00 AM. Meet us on Zoom and don’t forget your weights\, mats and water!\nEmail: education@mtvernonsda.org to register and for info on how to join.
URL:https://mtvernonsda.org/event/rise-grind-with-gee-2-2/2026-06-07/
ATTACH;FMTTYPE=image/png:https://mtvernonsda.org/wp-content/uploads/GTBL-1-2.png
END:VEVENT
BEGIN:VEVENT
DTSTART;TZID=America/New_York:20260607T120000
DTEND;TZID=America/New_York:20260607T143000
DTSTAMP:20260423T184851
CREATED:20260220T230534Z
LAST-MODIFIED:20260220T230714Z
UID:10003079-1780833600-1780842600@mtvernonsda.org
SUMMARY:Soup Kitchen
DESCRIPTION:EVERY SUNDAY\n12:00 – 2:00 PM | Community Distribution \n2:00- 2:30 PM | Church Member’s Distribution \nQuestions? Please contact admin@mtvernonsda.org
URL:https://mtvernonsda.org/event/soup-kitchen/2026-06-07/
LOCATION:Mount Vernon SDA Church\, 230 S. Columbus Avenue\, Mount Vernon\, NY\, 10553\, United States
CATEGORIES:community service
ATTACH;FMTTYPE=image/jpeg:https://mtvernonsda.org/wp-content/uploads/Image-1.jpeg
ORGANIZER;CN="Mount Vernon SDA Church":MAILTO:mtvsecretary@hotmail.com
GEO:40.9086934;-73.8219186
X-APPLE-STRUCTURED-LOCATION;VALUE=URI;X-ADDRESS=Mount Vernon SDA Church 230 S. Columbus Avenue Mount Vernon NY 10553 United States;X-APPLE-RADIUS=500;X-TITLE=230 S. Columbus Avenue:geo:-73.8219186,40.9086934
END:VEVENT
BEGIN:VEVENT
DTSTART;TZID=America/New_York:20260608T120000
DTEND;TZID=America/New_York:20260608T123000
DTSTAMP:20260423T184851
CREATED:20260220T232205Z
LAST-MODIFIED:20260220T232209Z
UID:10004859-1780920000-1780921800@mtvernonsda.org
SUMMARY:Daily Prayer at Noon
DESCRIPTION:A church that prays together stays together! Join us for daily prayer. \nTo Join: Dial: 646-558-8656\, Code: 418142065#
URL:https://mtvernonsda.org/event/daily-prayer-at-noon-2/2026-06-08/
LOCATION:Mount Vernon SDA Church\, 230 S. Columbus Avenue\, Mount Vernon\, NY\, 10553\, United States
ORGANIZER;CN="Mount Vernon SDA Church":MAILTO:mtvsecretary@hotmail.com
GEO:40.9086934;-73.8219186
X-APPLE-STRUCTURED-LOCATION;VALUE=URI;X-ADDRESS=Mount Vernon SDA Church 230 S. Columbus Avenue Mount Vernon NY 10553 United States;X-APPLE-RADIUS=500;X-TITLE=230 S. Columbus Avenue:geo:-73.8219186,40.9086934
END:VEVENT
BEGIN:VEVENT
DTSTART;TZID=America/New_York:20260609T120000
DTEND;TZID=America/New_York:20260609T123000
DTSTAMP:20260423T184851
CREATED:20260220T232205Z
LAST-MODIFIED:20260220T232209Z
UID:10003416-1781006400-1781008200@mtvernonsda.org
SUMMARY:Daily Prayer at Noon
DESCRIPTION:A church that prays together stays together! Join us for daily prayer. \nTo Join: Dial: 646-558-8656\, Code: 418142065#
URL:https://mtvernonsda.org/event/daily-prayer-at-noon-2/2026-06-09/
LOCATION:Mount Vernon SDA Church\, 230 S. Columbus Avenue\, Mount Vernon\, NY\, 10553\, United States
ORGANIZER;CN="Mount Vernon SDA Church":MAILTO:mtvsecretary@hotmail.com
GEO:40.9086934;-73.8219186
X-APPLE-STRUCTURED-LOCATION;VALUE=URI;X-ADDRESS=Mount Vernon SDA Church 230 S. Columbus Avenue Mount Vernon NY 10553 United States;X-APPLE-RADIUS=500;X-TITLE=230 S. Columbus Avenue:geo:-73.8219186,40.9086934
END:VEVENT
BEGIN:VEVENT
DTSTART;TZID=America/New_York:20260610T120000
DTEND;TZID=America/New_York:20260610T123000
DTSTAMP:20260423T184851
CREATED:20260220T232205Z
LAST-MODIFIED:20260220T232209Z
UID:10003417-1781092800-1781094600@mtvernonsda.org
SUMMARY:Daily Prayer at Noon
DESCRIPTION:A church that prays together stays together! Join us for daily prayer. \nTo Join: Dial: 646-558-8656\, Code: 418142065#
URL:https://mtvernonsda.org/event/daily-prayer-at-noon-2/2026-06-10/
LOCATION:Mount Vernon SDA Church\, 230 S. Columbus Avenue\, Mount Vernon\, NY\, 10553\, United States
ORGANIZER;CN="Mount Vernon SDA Church":MAILTO:mtvsecretary@hotmail.com
GEO:40.9086934;-73.8219186
X-APPLE-STRUCTURED-LOCATION;VALUE=URI;X-ADDRESS=Mount Vernon SDA Church 230 S. Columbus Avenue Mount Vernon NY 10553 United States;X-APPLE-RADIUS=500;X-TITLE=230 S. Columbus Avenue:geo:-73.8219186,40.9086934
END:VEVENT
BEGIN:VEVENT
DTSTART;TZID=America/New_York:20260610T190000
DTEND;TZID=America/New_York:20260610T200000
DTSTAMP:20260423T184851
CREATED:20260220T044844Z
LAST-MODIFIED:20260220T044844Z
UID:10002547-1781118000-1781121600@mtvernonsda.org
SUMMARY:Worship on Wednesdays
DESCRIPTION:
URL:https://mtvernonsda.org/event/worship-on-wednesdays/2026-06-10/
ORGANIZER;CN="Mount Vernon SDA Church":MAILTO:mtvsecretary@hotmail.com
END:VEVENT
BEGIN:VEVENT
DTSTART;TZID=America/New_York:20260611T070000
DTEND;TZID=America/New_York:20260611T080000
DTSTAMP:20260423T184851
CREATED:20260220T050517Z
LAST-MODIFIED:20260220T050517Z
UID:10002813-1781161200-1781164800@mtvernonsda.org
SUMMARY:Weekly Men's Ministry Call
DESCRIPTION:
URL:https://mtvernonsda.org/event/weekly-mens-ministry-call/2026-06-11/
CATEGORIES:men's ministry
ATTACH;FMTTYPE=image/png:https://mtvernonsda.org/wp-content/uploads/full-2.png
ORGANIZER;CN="Mount Vernon SDA Church":MAILTO:mtvsecretary@hotmail.com
END:VEVENT
BEGIN:VEVENT
DTSTART;TZID=America/New_York:20260611T120000
DTEND;TZID=America/New_York:20260611T123000
DTSTAMP:20260423T184851
CREATED:20260220T232205Z
LAST-MODIFIED:20260220T232209Z
UID:10003418-1781179200-1781181000@mtvernonsda.org
SUMMARY:Daily Prayer at Noon
DESCRIPTION:A church that prays together stays together! Join us for daily prayer. \nTo Join: Dial: 646-558-8656\, Code: 418142065#
URL:https://mtvernonsda.org/event/daily-prayer-at-noon-2/2026-06-11/
LOCATION:Mount Vernon SDA Church\, 230 S. Columbus Avenue\, Mount Vernon\, NY\, 10553\, United States
ORGANIZER;CN="Mount Vernon SDA Church":MAILTO:mtvsecretary@hotmail.com
GEO:40.9086934;-73.8219186
X-APPLE-STRUCTURED-LOCATION;VALUE=URI;X-ADDRESS=Mount Vernon SDA Church 230 S. Columbus Avenue Mount Vernon NY 10553 United States;X-APPLE-RADIUS=500;X-TITLE=230 S. Columbus Avenue:geo:-73.8219186,40.9086934
END:VEVENT
BEGIN:VEVENT
DTSTART;TZID=America/New_York:20260612T060000
DTEND;TZID=America/New_York:20260612T070000
DTSTAMP:20260423T184851
CREATED:20260220T044336Z
LAST-MODIFIED:20260220T044455Z
UID:10002284-1781244000-1781247600@mtvernonsda.org
SUMMARY:Friday Morning Devotion
DESCRIPTION:
URL:https://mtvernonsda.org/event/friday-morning-devotion/2026-06-12/
ORGANIZER;CN="Mount Vernon SDA Church":MAILTO:mtvsecretary@hotmail.com
END:VEVENT
BEGIN:VEVENT
DTSTART;TZID=America/New_York:20260612T120000
DTEND;TZID=America/New_York:20260612T123000
DTSTAMP:20260423T184851
CREATED:20260220T232205Z
LAST-MODIFIED:20260220T232209Z
UID:10004860-1781265600-1781267400@mtvernonsda.org
SUMMARY:Daily Prayer at Noon
DESCRIPTION:A church that prays together stays together! Join us for daily prayer. \nTo Join: Dial: 646-558-8656\, Code: 418142065#
URL:https://mtvernonsda.org/event/daily-prayer-at-noon-2/2026-06-12/
LOCATION:Mount Vernon SDA Church\, 230 S. Columbus Avenue\, Mount Vernon\, NY\, 10553\, United States
ORGANIZER;CN="Mount Vernon SDA Church":MAILTO:mtvsecretary@hotmail.com
GEO:40.9086934;-73.8219186
X-APPLE-STRUCTURED-LOCATION;VALUE=URI;X-ADDRESS=Mount Vernon SDA Church 230 S. Columbus Avenue Mount Vernon NY 10553 United States;X-APPLE-RADIUS=500;X-TITLE=230 S. Columbus Avenue:geo:-73.8219186,40.9086934
END:VEVENT
BEGIN:VEVENT
DTSTART;TZID=America/New_York:20260614T090000
DTEND;TZID=America/New_York:20260614T100000
DTSTAMP:20260423T184851
CREATED:20260404T005616Z
LAST-MODIFIED:20260404T005618Z
UID:10005287-1781427600-1781431200@mtvernonsda.org
SUMMARY:Rise & Grind with Gee
DESCRIPTION:We are offering virtual exercise classes on Sundays at 9:00 AM. Meet us on Zoom and don’t forget your weights\, mats and water!\nEmail: education@mtvernonsda.org to register and for info on how to join.
URL:https://mtvernonsda.org/event/rise-grind-with-gee-2-2/2026-06-14/
ATTACH;FMTTYPE=image/png:https://mtvernonsda.org/wp-content/uploads/GTBL-1-2.png
END:VEVENT
BEGIN:VEVENT
DTSTART;TZID=America/New_York:20260614T120000
DTEND;TZID=America/New_York:20260614T143000
DTSTAMP:20260423T184851
CREATED:20260220T230534Z
LAST-MODIFIED:20260220T230714Z
UID:10003080-1781438400-1781447400@mtvernonsda.org
SUMMARY:Soup Kitchen
DESCRIPTION:EVERY SUNDAY\n12:00 – 2:00 PM | Community Distribution \n2:00- 2:30 PM | Church Member’s Distribution \nQuestions? Please contact admin@mtvernonsda.org
URL:https://mtvernonsda.org/event/soup-kitchen/2026-06-14/
LOCATION:Mount Vernon SDA Church\, 230 S. Columbus Avenue\, Mount Vernon\, NY\, 10553\, United States
CATEGORIES:community service
ATTACH;FMTTYPE=image/jpeg:https://mtvernonsda.org/wp-content/uploads/Image-1.jpeg
ORGANIZER;CN="Mount Vernon SDA Church":MAILTO:mtvsecretary@hotmail.com
GEO:40.9086934;-73.8219186
X-APPLE-STRUCTURED-LOCATION;VALUE=URI;X-ADDRESS=Mount Vernon SDA Church 230 S. Columbus Avenue Mount Vernon NY 10553 United States;X-APPLE-RADIUS=500;X-TITLE=230 S. Columbus Avenue:geo:-73.8219186,40.9086934
END:VEVENT
BEGIN:VEVENT
DTSTART;TZID=America/New_York:20260615T120000
DTEND;TZID=America/New_York:20260615T123000
DTSTAMP:20260423T184851
CREATED:20260220T232205Z
LAST-MODIFIED:20260220T232209Z
UID:10004655-1781524800-1781526600@mtvernonsda.org
SUMMARY:Daily Prayer at Noon
DESCRIPTION:A church that prays together stays together! Join us for daily prayer. \nTo Join: Dial: 646-558-8656\, Code: 418142065#
URL:https://mtvernonsda.org/event/daily-prayer-at-noon-2/2026-06-15/
LOCATION:Mount Vernon SDA Church\, 230 S. Columbus Avenue\, Mount Vernon\, NY\, 10553\, United States
ORGANIZER;CN="Mount Vernon SDA Church":MAILTO:mtvsecretary@hotmail.com
GEO:40.9086934;-73.8219186
X-APPLE-STRUCTURED-LOCATION;VALUE=URI;X-ADDRESS=Mount Vernon SDA Church 230 S. Columbus Avenue Mount Vernon NY 10553 United States;X-APPLE-RADIUS=500;X-TITLE=230 S. Columbus Avenue:geo:-73.8219186,40.9086934
END:VEVENT
BEGIN:VEVENT
DTSTART;TZID=America/New_York:20260616T120000
DTEND;TZID=America/New_York:20260616T123000
DTSTAMP:20260423T184851
CREATED:20260220T232205Z
LAST-MODIFIED:20260220T232209Z
UID:10003421-1781611200-1781613000@mtvernonsda.org
SUMMARY:Daily Prayer at Noon
DESCRIPTION:A church that prays together stays together! Join us for daily prayer. \nTo Join: Dial: 646-558-8656\, Code: 418142065#
URL:https://mtvernonsda.org/event/daily-prayer-at-noon-2/2026-06-16/
LOCATION:Mount Vernon SDA Church\, 230 S. Columbus Avenue\, Mount Vernon\, NY\, 10553\, United States
ORGANIZER;CN="Mount Vernon SDA Church":MAILTO:mtvsecretary@hotmail.com
GEO:40.9086934;-73.8219186
X-APPLE-STRUCTURED-LOCATION;VALUE=URI;X-ADDRESS=Mount Vernon SDA Church 230 S. Columbus Avenue Mount Vernon NY 10553 United States;X-APPLE-RADIUS=500;X-TITLE=230 S. Columbus Avenue:geo:-73.8219186,40.9086934
END:VEVENT
BEGIN:VEVENT
DTSTART;TZID=America/New_York:20260617T120000
DTEND;TZID=America/New_York:20260617T123000
DTSTAMP:20260423T184851
CREATED:20260220T232205Z
LAST-MODIFIED:20260220T232209Z
UID:10004861-1781697600-1781699400@mtvernonsda.org
SUMMARY:Daily Prayer at Noon
DESCRIPTION:A church that prays together stays together! Join us for daily prayer. \nTo Join: Dial: 646-558-8656\, Code: 418142065#
URL:https://mtvernonsda.org/event/daily-prayer-at-noon-2/2026-06-17/
LOCATION:Mount Vernon SDA Church\, 230 S. Columbus Avenue\, Mount Vernon\, NY\, 10553\, United States
ORGANIZER;CN="Mount Vernon SDA Church":MAILTO:mtvsecretary@hotmail.com
GEO:40.9086934;-73.8219186
X-APPLE-STRUCTURED-LOCATION;VALUE=URI;X-ADDRESS=Mount Vernon SDA Church 230 S. Columbus Avenue Mount Vernon NY 10553 United States;X-APPLE-RADIUS=500;X-TITLE=230 S. Columbus Avenue:geo:-73.8219186,40.9086934
END:VEVENT
BEGIN:VEVENT
DTSTART;TZID=America/New_York:20260617T190000
DTEND;TZID=America/New_York:20260617T200000
DTSTAMP:20260423T184851
CREATED:20260220T044844Z
LAST-MODIFIED:20260220T044844Z
UID:10002548-1781722800-1781726400@mtvernonsda.org
SUMMARY:Worship on Wednesdays
DESCRIPTION:
URL:https://mtvernonsda.org/event/worship-on-wednesdays/2026-06-17/
ORGANIZER;CN="Mount Vernon SDA Church":MAILTO:mtvsecretary@hotmail.com
END:VEVENT
BEGIN:VEVENT
DTSTART;TZID=America/New_York:20260618T070000
DTEND;TZID=America/New_York:20260618T080000
DTSTAMP:20260423T184851
CREATED:20260220T050517Z
LAST-MODIFIED:20260220T050517Z
UID:10002814-1781766000-1781769600@mtvernonsda.org
SUMMARY:Weekly Men's Ministry Call
DESCRIPTION:
URL:https://mtvernonsda.org/event/weekly-mens-ministry-call/2026-06-18/
CATEGORIES:men's ministry
ATTACH;FMTTYPE=image/png:https://mtvernonsda.org/wp-content/uploads/full-2.png
ORGANIZER;CN="Mount Vernon SDA Church":MAILTO:mtvsecretary@hotmail.com
END:VEVENT
BEGIN:VEVENT
DTSTART;TZID=America/New_York:20260618T120000
DTEND;TZID=America/New_York:20260618T123000
DTSTAMP:20260423T184851
CREATED:20260220T232205Z
LAST-MODIFIED:20260220T232209Z
UID:10003423-1781784000-1781785800@mtvernonsda.org
SUMMARY:Daily Prayer at Noon
DESCRIPTION:A church that prays together stays together! Join us for daily prayer. \nTo Join: Dial: 646-558-8656\, Code: 418142065#
URL:https://mtvernonsda.org/event/daily-prayer-at-noon-2/2026-06-18/
LOCATION:Mount Vernon SDA Church\, 230 S. Columbus Avenue\, Mount Vernon\, NY\, 10553\, United States
ORGANIZER;CN="Mount Vernon SDA Church":MAILTO:mtvsecretary@hotmail.com
GEO:40.9086934;-73.8219186
X-APPLE-STRUCTURED-LOCATION;VALUE=URI;X-ADDRESS=Mount Vernon SDA Church 230 S. Columbus Avenue Mount Vernon NY 10553 United States;X-APPLE-RADIUS=500;X-TITLE=230 S. Columbus Avenue:geo:-73.8219186,40.9086934
END:VEVENT
END:VCALENDAR