BEGIN:VCALENDAR
VERSION:2.0
PRODID:-//Mt. Vernon SDA Church - ECPv6.15.20//NONSGML v1.0//EN
CALSCALE:GREGORIAN
METHOD:PUBLISH
X-ORIGINAL-URL:https://mtvernonsda.org
X-WR-CALDESC:Events for Mt. Vernon SDA Church
REFRESH-INTERVAL;VALUE=DURATION:PT1H
X-Robots-Tag:noindex
X-PUBLISHED-TTL:PT1H
BEGIN:VTIMEZONE
TZID:America/New_York
BEGIN:DAYLIGHT
TZOFFSETFROM:-0500
TZOFFSETTO:-0400
TZNAME:EDT
DTSTART:20260308T070000
END:DAYLIGHT
BEGIN:STANDARD
TZOFFSETFROM:-0400
TZOFFSETTO:-0500
TZNAME:EST
DTSTART:20261101T060000
END:STANDARD
BEGIN:DAYLIGHT
TZOFFSETFROM:-0500
TZOFFSETTO:-0400
TZNAME:EDT
DTSTART:20270314T070000
END:DAYLIGHT
BEGIN:STANDARD
TZOFFSETFROM:-0400
TZOFFSETTO:-0500
TZNAME:EST
DTSTART:20271107T060000
END:STANDARD
BEGIN:DAYLIGHT
TZOFFSETFROM:-0500
TZOFFSETTO:-0400
TZNAME:EDT
DTSTART:20280312T070000
END:DAYLIGHT
BEGIN:STANDARD
TZOFFSETFROM:-0400
TZOFFSETTO:-0500
TZNAME:EST
DTSTART:20281105T060000
END:STANDARD
END:VTIMEZONE
BEGIN:VEVENT
DTSTART;TZID=America/New_York:20270212T120000
DTEND;TZID=America/New_York:20270212T123000
DTSTAMP:20260424T093704
CREATED:20260220T232205Z
LAST-MODIFIED:20260220T232209Z
UID:10004918-1802433600-1802435400@mtvernonsda.org
SUMMARY:Daily Prayer at Noon
DESCRIPTION:A church that prays together stays together! Join us for daily prayer. \nTo Join: Dial: 646-558-8656\, Code: 418142065#
URL:https://mtvernonsda.org/event/daily-prayer-at-noon-2/2027-02-12/
LOCATION:Mount Vernon SDA Church\, 230 S. Columbus Avenue\, Mount Vernon\, NY\, 10553\, United States
ORGANIZER;CN="Mount Vernon SDA Church":MAILTO:mtvsecretary@hotmail.com
GEO:40.9086934;-73.8219186
X-APPLE-STRUCTURED-LOCATION;VALUE=URI;X-ADDRESS=Mount Vernon SDA Church 230 S. Columbus Avenue Mount Vernon NY 10553 United States;X-APPLE-RADIUS=500;X-TITLE=230 S. Columbus Avenue:geo:-73.8219186,40.9086934
END:VEVENT
BEGIN:VEVENT
DTSTART;TZID=America/New_York:20270214T090000
DTEND;TZID=America/New_York:20270214T100000
DTSTAMP:20260424T093704
CREATED:20260404T005616Z
LAST-MODIFIED:20260404T005618Z
UID:10005322-1802595600-1802599200@mtvernonsda.org
SUMMARY:Rise & Grind with Gee
DESCRIPTION:We are offering virtual exercise classes on Sundays at 9:00 AM. Meet us on Zoom and don’t forget your weights\, mats and water!\nEmail: education@mtvernonsda.org to register and for info on how to join.
URL:https://mtvernonsda.org/event/rise-grind-with-gee-2-2/2027-02-14/
ATTACH;FMTTYPE=image/png:https://mtvernonsda.org/wp-content/uploads/GTBL-1-2.png
END:VEVENT
BEGIN:VEVENT
DTSTART;TZID=America/New_York:20270214T120000
DTEND;TZID=America/New_York:20270214T143000
DTSTAMP:20260424T093704
CREATED:20260220T230534Z
LAST-MODIFIED:20260220T230714Z
UID:10003115-1802606400-1802615400@mtvernonsda.org
SUMMARY:Soup Kitchen
DESCRIPTION:EVERY SUNDAY\n12:00 – 2:00 PM | Community Distribution \n2:00- 2:30 PM | Church Member’s Distribution \nQuestions? Please contact admin@mtvernonsda.org
URL:https://mtvernonsda.org/event/soup-kitchen/2027-02-14/
LOCATION:Mount Vernon SDA Church\, 230 S. Columbus Avenue\, Mount Vernon\, NY\, 10553\, United States
CATEGORIES:community service
ATTACH;FMTTYPE=image/jpeg:https://mtvernonsda.org/wp-content/uploads/Image-1.jpeg
ORGANIZER;CN="Mount Vernon SDA Church":MAILTO:mtvsecretary@hotmail.com
GEO:40.9086934;-73.8219186
X-APPLE-STRUCTURED-LOCATION;VALUE=URI;X-ADDRESS=Mount Vernon SDA Church 230 S. Columbus Avenue Mount Vernon NY 10553 United States;X-APPLE-RADIUS=500;X-TITLE=230 S. Columbus Avenue:geo:-73.8219186,40.9086934
END:VEVENT
BEGIN:VEVENT
DTSTART;TZID=America/New_York:20270215T120000
DTEND;TZID=America/New_York:20270215T123000
DTSTAMP:20260424T093704
CREATED:20260220T232205Z
LAST-MODIFIED:20260220T232209Z
UID:10004919-1802692800-1802694600@mtvernonsda.org
SUMMARY:Daily Prayer at Noon
DESCRIPTION:A church that prays together stays together! Join us for daily prayer. \nTo Join: Dial: 646-558-8656\, Code: 418142065#
URL:https://mtvernonsda.org/event/daily-prayer-at-noon-2/2027-02-15/
LOCATION:Mount Vernon SDA Church\, 230 S. Columbus Avenue\, Mount Vernon\, NY\, 10553\, United States
ORGANIZER;CN="Mount Vernon SDA Church":MAILTO:mtvsecretary@hotmail.com
GEO:40.9086934;-73.8219186
X-APPLE-STRUCTURED-LOCATION;VALUE=URI;X-ADDRESS=Mount Vernon SDA Church 230 S. Columbus Avenue Mount Vernon NY 10553 United States;X-APPLE-RADIUS=500;X-TITLE=230 S. Columbus Avenue:geo:-73.8219186,40.9086934
END:VEVENT
BEGIN:VEVENT
DTSTART;TZID=America/New_York:20270216T120000
DTEND;TZID=America/New_York:20270216T123000
DTSTAMP:20260424T093704
CREATED:20260220T232205Z
LAST-MODIFIED:20260220T232209Z
UID:10003596-1802779200-1802781000@mtvernonsda.org
SUMMARY:Daily Prayer at Noon
DESCRIPTION:A church that prays together stays together! Join us for daily prayer. \nTo Join: Dial: 646-558-8656\, Code: 418142065#
URL:https://mtvernonsda.org/event/daily-prayer-at-noon-2/2027-02-16/
LOCATION:Mount Vernon SDA Church\, 230 S. Columbus Avenue\, Mount Vernon\, NY\, 10553\, United States
ORGANIZER;CN="Mount Vernon SDA Church":MAILTO:mtvsecretary@hotmail.com
GEO:40.9086934;-73.8219186
X-APPLE-STRUCTURED-LOCATION;VALUE=URI;X-ADDRESS=Mount Vernon SDA Church 230 S. Columbus Avenue Mount Vernon NY 10553 United States;X-APPLE-RADIUS=500;X-TITLE=230 S. Columbus Avenue:geo:-73.8219186,40.9086934
END:VEVENT
BEGIN:VEVENT
DTSTART;TZID=America/New_York:20270217T120000
DTEND;TZID=America/New_York:20270217T123000
DTSTAMP:20260424T093704
CREATED:20260220T232205Z
LAST-MODIFIED:20260220T232209Z
UID:10004920-1802865600-1802867400@mtvernonsda.org
SUMMARY:Daily Prayer at Noon
DESCRIPTION:A church that prays together stays together! Join us for daily prayer. \nTo Join: Dial: 646-558-8656\, Code: 418142065#
URL:https://mtvernonsda.org/event/daily-prayer-at-noon-2/2027-02-17/
LOCATION:Mount Vernon SDA Church\, 230 S. Columbus Avenue\, Mount Vernon\, NY\, 10553\, United States
ORGANIZER;CN="Mount Vernon SDA Church":MAILTO:mtvsecretary@hotmail.com
GEO:40.9086934;-73.8219186
X-APPLE-STRUCTURED-LOCATION;VALUE=URI;X-ADDRESS=Mount Vernon SDA Church 230 S. Columbus Avenue Mount Vernon NY 10553 United States;X-APPLE-RADIUS=500;X-TITLE=230 S. Columbus Avenue:geo:-73.8219186,40.9086934
END:VEVENT
BEGIN:VEVENT
DTSTART;TZID=America/New_York:20270217T190000
DTEND;TZID=America/New_York:20270217T200000
DTSTAMP:20260424T093704
CREATED:20260220T044844Z
LAST-MODIFIED:20260220T044844Z
UID:10002583-1802890800-1802894400@mtvernonsda.org
SUMMARY:Worship on Wednesdays
DESCRIPTION:
URL:https://mtvernonsda.org/event/worship-on-wednesdays/2027-02-17/
ORGANIZER;CN="Mount Vernon SDA Church":MAILTO:mtvsecretary@hotmail.com
END:VEVENT
BEGIN:VEVENT
DTSTART;TZID=America/New_York:20270218T070000
DTEND;TZID=America/New_York:20270218T080000
DTSTAMP:20260424T093704
CREATED:20260220T050517Z
LAST-MODIFIED:20260220T050517Z
UID:10002849-1802934000-1802937600@mtvernonsda.org
SUMMARY:Weekly Men's Ministry Call
DESCRIPTION:
URL:https://mtvernonsda.org/event/weekly-mens-ministry-call/2027-02-18/
CATEGORIES:men's ministry
ATTACH;FMTTYPE=image/png:https://mtvernonsda.org/wp-content/uploads/full-2.png
ORGANIZER;CN="Mount Vernon SDA Church":MAILTO:mtvsecretary@hotmail.com
END:VEVENT
BEGIN:VEVENT
DTSTART;TZID=America/New_York:20270218T120000
DTEND;TZID=America/New_York:20270218T123000
DTSTAMP:20260424T093704
CREATED:20260220T232205Z
LAST-MODIFIED:20260220T232209Z
UID:10003598-1802952000-1802953800@mtvernonsda.org
SUMMARY:Daily Prayer at Noon
DESCRIPTION:A church that prays together stays together! Join us for daily prayer. \nTo Join: Dial: 646-558-8656\, Code: 418142065#
URL:https://mtvernonsda.org/event/daily-prayer-at-noon-2/2027-02-18/
LOCATION:Mount Vernon SDA Church\, 230 S. Columbus Avenue\, Mount Vernon\, NY\, 10553\, United States
ORGANIZER;CN="Mount Vernon SDA Church":MAILTO:mtvsecretary@hotmail.com
GEO:40.9086934;-73.8219186
X-APPLE-STRUCTURED-LOCATION;VALUE=URI;X-ADDRESS=Mount Vernon SDA Church 230 S. Columbus Avenue Mount Vernon NY 10553 United States;X-APPLE-RADIUS=500;X-TITLE=230 S. Columbus Avenue:geo:-73.8219186,40.9086934
END:VEVENT
BEGIN:VEVENT
DTSTART;TZID=America/New_York:20270219T060000
DTEND;TZID=America/New_York:20270219T070000
DTSTAMP:20260424T093704
CREATED:20260220T044336Z
LAST-MODIFIED:20260220T044455Z
UID:10002320-1803016800-1803020400@mtvernonsda.org
SUMMARY:Friday Morning Devotion
DESCRIPTION:
URL:https://mtvernonsda.org/event/friday-morning-devotion/2027-02-19/
ORGANIZER;CN="Mount Vernon SDA Church":MAILTO:mtvsecretary@hotmail.com
END:VEVENT
BEGIN:VEVENT
DTSTART;TZID=America/New_York:20270219T120000
DTEND;TZID=America/New_York:20270219T123000
DTSTAMP:20260424T093704
CREATED:20260220T232205Z
LAST-MODIFIED:20260220T232209Z
UID:10003599-1803038400-1803040200@mtvernonsda.org
SUMMARY:Daily Prayer at Noon
DESCRIPTION:A church that prays together stays together! Join us for daily prayer. \nTo Join: Dial: 646-558-8656\, Code: 418142065#
URL:https://mtvernonsda.org/event/daily-prayer-at-noon-2/2027-02-19/
LOCATION:Mount Vernon SDA Church\, 230 S. Columbus Avenue\, Mount Vernon\, NY\, 10553\, United States
ORGANIZER;CN="Mount Vernon SDA Church":MAILTO:mtvsecretary@hotmail.com
GEO:40.9086934;-73.8219186
X-APPLE-STRUCTURED-LOCATION;VALUE=URI;X-ADDRESS=Mount Vernon SDA Church 230 S. Columbus Avenue Mount Vernon NY 10553 United States;X-APPLE-RADIUS=500;X-TITLE=230 S. Columbus Avenue:geo:-73.8219186,40.9086934
END:VEVENT
BEGIN:VEVENT
DTSTART;TZID=America/New_York:20270221T090000
DTEND;TZID=America/New_York:20270221T100000
DTSTAMP:20260424T093704
CREATED:20260404T005616Z
LAST-MODIFIED:20260404T005618Z
UID:10005323-1803200400-1803204000@mtvernonsda.org
SUMMARY:Rise & Grind with Gee
DESCRIPTION:We are offering virtual exercise classes on Sundays at 9:00 AM. Meet us on Zoom and don’t forget your weights\, mats and water!\nEmail: education@mtvernonsda.org to register and for info on how to join.
URL:https://mtvernonsda.org/event/rise-grind-with-gee-2-2/2027-02-21/
ATTACH;FMTTYPE=image/png:https://mtvernonsda.org/wp-content/uploads/GTBL-1-2.png
END:VEVENT
BEGIN:VEVENT
DTSTART;TZID=America/New_York:20270221T100000
DTEND;TZID=America/New_York:20270221T140000
DTSTAMP:20260424T093704
CREATED:20260309T224535Z
LAST-MODIFIED:20260309T224535Z
UID:10005606-1803204000-1803218400@mtvernonsda.org
SUMMARY:Power In A Shower
DESCRIPTION:
URL:https://mtvernonsda.org/event/power-in-a-shower-3/2027-02-21/
LOCATION:Mount Vernon SDA Church\, 230 S. Columbus Avenue\, Mount Vernon\, NY\, 10553\, United States
ATTACH;FMTTYPE=application/pdf:https://mtvernonsda.org/wp-content/uploads/Feed-The-Homeless-Fundraiser-Template.pdf
ORGANIZER;CN="Mount Vernon SDA Church":MAILTO:mtvsecretary@hotmail.com
GEO:40.9086934;-73.8219186
X-APPLE-STRUCTURED-LOCATION;VALUE=URI;X-ADDRESS=Mount Vernon SDA Church 230 S. Columbus Avenue Mount Vernon NY 10553 United States;X-APPLE-RADIUS=500;X-TITLE=230 S. Columbus Avenue:geo:-73.8219186,40.9086934
END:VEVENT
BEGIN:VEVENT
DTSTART;TZID=America/New_York:20270221T120000
DTEND;TZID=America/New_York:20270221T143000
DTSTAMP:20260424T093704
CREATED:20260220T230534Z
LAST-MODIFIED:20260220T230714Z
UID:10003116-1803211200-1803220200@mtvernonsda.org
SUMMARY:Soup Kitchen
DESCRIPTION:EVERY SUNDAY\n12:00 – 2:00 PM | Community Distribution \n2:00- 2:30 PM | Church Member’s Distribution \nQuestions? Please contact admin@mtvernonsda.org
URL:https://mtvernonsda.org/event/soup-kitchen/2027-02-21/
LOCATION:Mount Vernon SDA Church\, 230 S. Columbus Avenue\, Mount Vernon\, NY\, 10553\, United States
CATEGORIES:community service
ATTACH;FMTTYPE=image/jpeg:https://mtvernonsda.org/wp-content/uploads/Image-1.jpeg
ORGANIZER;CN="Mount Vernon SDA Church":MAILTO:mtvsecretary@hotmail.com
GEO:40.9086934;-73.8219186
X-APPLE-STRUCTURED-LOCATION;VALUE=URI;X-ADDRESS=Mount Vernon SDA Church 230 S. Columbus Avenue Mount Vernon NY 10553 United States;X-APPLE-RADIUS=500;X-TITLE=230 S. Columbus Avenue:geo:-73.8219186,40.9086934
END:VEVENT
BEGIN:VEVENT
DTSTART;TZID=America/New_York:20270222T120000
DTEND;TZID=America/New_York:20270222T123000
DTSTAMP:20260424T093704
CREATED:20260220T232205Z
LAST-MODIFIED:20260220T232209Z
UID:10004921-1803297600-1803299400@mtvernonsda.org
SUMMARY:Daily Prayer at Noon
DESCRIPTION:A church that prays together stays together! Join us for daily prayer. \nTo Join: Dial: 646-558-8656\, Code: 418142065#
URL:https://mtvernonsda.org/event/daily-prayer-at-noon-2/2027-02-22/
LOCATION:Mount Vernon SDA Church\, 230 S. Columbus Avenue\, Mount Vernon\, NY\, 10553\, United States
ORGANIZER;CN="Mount Vernon SDA Church":MAILTO:mtvsecretary@hotmail.com
GEO:40.9086934;-73.8219186
X-APPLE-STRUCTURED-LOCATION;VALUE=URI;X-ADDRESS=Mount Vernon SDA Church 230 S. Columbus Avenue Mount Vernon NY 10553 United States;X-APPLE-RADIUS=500;X-TITLE=230 S. Columbus Avenue:geo:-73.8219186,40.9086934
END:VEVENT
BEGIN:VEVENT
DTSTART;TZID=America/New_York:20270223T120000
DTEND;TZID=America/New_York:20270223T123000
DTSTAMP:20260424T093704
CREATED:20260220T232205Z
LAST-MODIFIED:20260220T232209Z
UID:10003601-1803384000-1803385800@mtvernonsda.org
SUMMARY:Daily Prayer at Noon
DESCRIPTION:A church that prays together stays together! Join us for daily prayer. \nTo Join: Dial: 646-558-8656\, Code: 418142065#
URL:https://mtvernonsda.org/event/daily-prayer-at-noon-2/2027-02-23/
LOCATION:Mount Vernon SDA Church\, 230 S. Columbus Avenue\, Mount Vernon\, NY\, 10553\, United States
ORGANIZER;CN="Mount Vernon SDA Church":MAILTO:mtvsecretary@hotmail.com
GEO:40.9086934;-73.8219186
X-APPLE-STRUCTURED-LOCATION;VALUE=URI;X-ADDRESS=Mount Vernon SDA Church 230 S. Columbus Avenue Mount Vernon NY 10553 United States;X-APPLE-RADIUS=500;X-TITLE=230 S. Columbus Avenue:geo:-73.8219186,40.9086934
END:VEVENT
BEGIN:VEVENT
DTSTART;TZID=America/New_York:20270224T120000
DTEND;TZID=America/New_York:20270224T123000
DTSTAMP:20260424T093704
CREATED:20260220T232205Z
LAST-MODIFIED:20260220T232209Z
UID:10003602-1803470400-1803472200@mtvernonsda.org
SUMMARY:Daily Prayer at Noon
DESCRIPTION:A church that prays together stays together! Join us for daily prayer. \nTo Join: Dial: 646-558-8656\, Code: 418142065#
URL:https://mtvernonsda.org/event/daily-prayer-at-noon-2/2027-02-24/
LOCATION:Mount Vernon SDA Church\, 230 S. Columbus Avenue\, Mount Vernon\, NY\, 10553\, United States
ORGANIZER;CN="Mount Vernon SDA Church":MAILTO:mtvsecretary@hotmail.com
GEO:40.9086934;-73.8219186
X-APPLE-STRUCTURED-LOCATION;VALUE=URI;X-ADDRESS=Mount Vernon SDA Church 230 S. Columbus Avenue Mount Vernon NY 10553 United States;X-APPLE-RADIUS=500;X-TITLE=230 S. Columbus Avenue:geo:-73.8219186,40.9086934
END:VEVENT
BEGIN:VEVENT
DTSTART;TZID=America/New_York:20270224T190000
DTEND;TZID=America/New_York:20270224T200000
DTSTAMP:20260424T093704
CREATED:20260220T044844Z
LAST-MODIFIED:20260220T044844Z
UID:10002584-1803495600-1803499200@mtvernonsda.org
SUMMARY:Worship on Wednesdays
DESCRIPTION:
URL:https://mtvernonsda.org/event/worship-on-wednesdays/2027-02-24/
ORGANIZER;CN="Mount Vernon SDA Church":MAILTO:mtvsecretary@hotmail.com
END:VEVENT
BEGIN:VEVENT
DTSTART;TZID=America/New_York:20270225T070000
DTEND;TZID=America/New_York:20270225T080000
DTSTAMP:20260424T093704
CREATED:20260220T050517Z
LAST-MODIFIED:20260220T050517Z
UID:10002850-1803538800-1803542400@mtvernonsda.org
SUMMARY:Weekly Men's Ministry Call
DESCRIPTION:
URL:https://mtvernonsda.org/event/weekly-mens-ministry-call/2027-02-25/
CATEGORIES:men's ministry
ATTACH;FMTTYPE=image/png:https://mtvernonsda.org/wp-content/uploads/full-2.png
ORGANIZER;CN="Mount Vernon SDA Church":MAILTO:mtvsecretary@hotmail.com
END:VEVENT
BEGIN:VEVENT
DTSTART;TZID=America/New_York:20270225T120000
DTEND;TZID=America/New_York:20270225T123000
DTSTAMP:20260424T093704
CREATED:20260220T232205Z
LAST-MODIFIED:20260220T232209Z
UID:10003603-1803556800-1803558600@mtvernonsda.org
SUMMARY:Daily Prayer at Noon
DESCRIPTION:A church that prays together stays together! Join us for daily prayer. \nTo Join: Dial: 646-558-8656\, Code: 418142065#
URL:https://mtvernonsda.org/event/daily-prayer-at-noon-2/2027-02-25/
LOCATION:Mount Vernon SDA Church\, 230 S. Columbus Avenue\, Mount Vernon\, NY\, 10553\, United States
ORGANIZER;CN="Mount Vernon SDA Church":MAILTO:mtvsecretary@hotmail.com
GEO:40.9086934;-73.8219186
X-APPLE-STRUCTURED-LOCATION;VALUE=URI;X-ADDRESS=Mount Vernon SDA Church 230 S. Columbus Avenue Mount Vernon NY 10553 United States;X-APPLE-RADIUS=500;X-TITLE=230 S. Columbus Avenue:geo:-73.8219186,40.9086934
END:VEVENT
BEGIN:VEVENT
DTSTART;TZID=America/New_York:20270226T060000
DTEND;TZID=America/New_York:20270226T070000
DTSTAMP:20260424T093704
CREATED:20260220T044336Z
LAST-MODIFIED:20260220T044455Z
UID:10002321-1803621600-1803625200@mtvernonsda.org
SUMMARY:Friday Morning Devotion
DESCRIPTION:
URL:https://mtvernonsda.org/event/friday-morning-devotion/2027-02-26/
ORGANIZER;CN="Mount Vernon SDA Church":MAILTO:mtvsecretary@hotmail.com
END:VEVENT
BEGIN:VEVENT
DTSTART;TZID=America/New_York:20270226T120000
DTEND;TZID=America/New_York:20270226T123000
DTSTAMP:20260424T093704
CREATED:20260220T232205Z
LAST-MODIFIED:20260220T232209Z
UID:10003604-1803643200-1803645000@mtvernonsda.org
SUMMARY:Daily Prayer at Noon
DESCRIPTION:A church that prays together stays together! Join us for daily prayer. \nTo Join: Dial: 646-558-8656\, Code: 418142065#
URL:https://mtvernonsda.org/event/daily-prayer-at-noon-2/2027-02-26/
LOCATION:Mount Vernon SDA Church\, 230 S. Columbus Avenue\, Mount Vernon\, NY\, 10553\, United States
ORGANIZER;CN="Mount Vernon SDA Church":MAILTO:mtvsecretary@hotmail.com
GEO:40.9086934;-73.8219186
X-APPLE-STRUCTURED-LOCATION;VALUE=URI;X-ADDRESS=Mount Vernon SDA Church 230 S. Columbus Avenue Mount Vernon NY 10553 United States;X-APPLE-RADIUS=500;X-TITLE=230 S. Columbus Avenue:geo:-73.8219186,40.9086934
END:VEVENT
BEGIN:VEVENT
DTSTART;TZID=America/New_York:20270228T090000
DTEND;TZID=America/New_York:20270228T100000
DTSTAMP:20260424T093704
CREATED:20260404T005616Z
LAST-MODIFIED:20260404T005618Z
UID:10005324-1803805200-1803808800@mtvernonsda.org
SUMMARY:Rise & Grind with Gee
DESCRIPTION:We are offering virtual exercise classes on Sundays at 9:00 AM. Meet us on Zoom and don’t forget your weights\, mats and water!\nEmail: education@mtvernonsda.org to register and for info on how to join.
URL:https://mtvernonsda.org/event/rise-grind-with-gee-2-2/2027-02-28/
ATTACH;FMTTYPE=image/png:https://mtvernonsda.org/wp-content/uploads/GTBL-1-2.png
END:VEVENT
BEGIN:VEVENT
DTSTART;TZID=America/New_York:20270228T120000
DTEND;TZID=America/New_York:20270228T143000
DTSTAMP:20260424T093704
CREATED:20260220T230534Z
LAST-MODIFIED:20260220T230714Z
UID:10003117-1803816000-1803825000@mtvernonsda.org
SUMMARY:Soup Kitchen
DESCRIPTION:EVERY SUNDAY\n12:00 – 2:00 PM | Community Distribution \n2:00- 2:30 PM | Church Member’s Distribution \nQuestions? Please contact admin@mtvernonsda.org
URL:https://mtvernonsda.org/event/soup-kitchen/2027-02-28/
LOCATION:Mount Vernon SDA Church\, 230 S. Columbus Avenue\, Mount Vernon\, NY\, 10553\, United States
CATEGORIES:community service
ATTACH;FMTTYPE=image/jpeg:https://mtvernonsda.org/wp-content/uploads/Image-1.jpeg
ORGANIZER;CN="Mount Vernon SDA Church":MAILTO:mtvsecretary@hotmail.com
GEO:40.9086934;-73.8219186
X-APPLE-STRUCTURED-LOCATION;VALUE=URI;X-ADDRESS=Mount Vernon SDA Church 230 S. Columbus Avenue Mount Vernon NY 10553 United States;X-APPLE-RADIUS=500;X-TITLE=230 S. Columbus Avenue:geo:-73.8219186,40.9086934
END:VEVENT
BEGIN:VEVENT
DTSTART;TZID=America/New_York:20270301T120000
DTEND;TZID=America/New_York:20270301T123000
DTSTAMP:20260424T093704
CREATED:20260220T232205Z
LAST-MODIFIED:20260220T232209Z
UID:10004679-1803902400-1803904200@mtvernonsda.org
SUMMARY:Daily Prayer at Noon
DESCRIPTION:A church that prays together stays together! Join us for daily prayer. \nTo Join: Dial: 646-558-8656\, Code: 418142065#
URL:https://mtvernonsda.org/event/daily-prayer-at-noon-2/2027-03-01/
LOCATION:Mount Vernon SDA Church\, 230 S. Columbus Avenue\, Mount Vernon\, NY\, 10553\, United States
ORGANIZER;CN="Mount Vernon SDA Church":MAILTO:mtvsecretary@hotmail.com
GEO:40.9086934;-73.8219186
X-APPLE-STRUCTURED-LOCATION;VALUE=URI;X-ADDRESS=Mount Vernon SDA Church 230 S. Columbus Avenue Mount Vernon NY 10553 United States;X-APPLE-RADIUS=500;X-TITLE=230 S. Columbus Avenue:geo:-73.8219186,40.9086934
END:VEVENT
BEGIN:VEVENT
DTSTART;TZID=America/New_York:20270302T120000
DTEND;TZID=America/New_York:20270302T123000
DTSTAMP:20260424T093704
CREATED:20260220T232205Z
LAST-MODIFIED:20260220T232209Z
UID:10003606-1803988800-1803990600@mtvernonsda.org
SUMMARY:Daily Prayer at Noon
DESCRIPTION:A church that prays together stays together! Join us for daily prayer. \nTo Join: Dial: 646-558-8656\, Code: 418142065#
URL:https://mtvernonsda.org/event/daily-prayer-at-noon-2/2027-03-02/
LOCATION:Mount Vernon SDA Church\, 230 S. Columbus Avenue\, Mount Vernon\, NY\, 10553\, United States
ORGANIZER;CN="Mount Vernon SDA Church":MAILTO:mtvsecretary@hotmail.com
GEO:40.9086934;-73.8219186
X-APPLE-STRUCTURED-LOCATION;VALUE=URI;X-ADDRESS=Mount Vernon SDA Church 230 S. Columbus Avenue Mount Vernon NY 10553 United States;X-APPLE-RADIUS=500;X-TITLE=230 S. Columbus Avenue:geo:-73.8219186,40.9086934
END:VEVENT
BEGIN:VEVENT
DTSTART;TZID=America/New_York:20270302T190000
DTEND;TZID=America/New_York:20270302T200000
DTSTAMP:20260424T093704
CREATED:20260220T051121Z
LAST-MODIFIED:20260220T051122Z
UID:10002208-1804014000-1804017600@mtvernonsda.org
SUMMARY:Bereavement Support Group Meeting
DESCRIPTION:
URL:https://mtvernonsda.org/event/bereavement-support-group-meeting-2/2027-03-02/
ORGANIZER;CN="Mount Vernon SDA Church":MAILTO:mtvsecretary@hotmail.com
END:VEVENT
BEGIN:VEVENT
DTSTART;TZID=America/New_York:20270303T120000
DTEND;TZID=America/New_York:20270303T123000
DTSTAMP:20260424T093704
CREATED:20260220T232205Z
LAST-MODIFIED:20260220T232209Z
UID:10003607-1804075200-1804077000@mtvernonsda.org
SUMMARY:Daily Prayer at Noon
DESCRIPTION:A church that prays together stays together! Join us for daily prayer. \nTo Join: Dial: 646-558-8656\, Code: 418142065#
URL:https://mtvernonsda.org/event/daily-prayer-at-noon-2/2027-03-03/
LOCATION:Mount Vernon SDA Church\, 230 S. Columbus Avenue\, Mount Vernon\, NY\, 10553\, United States
ORGANIZER;CN="Mount Vernon SDA Church":MAILTO:mtvsecretary@hotmail.com
GEO:40.9086934;-73.8219186
X-APPLE-STRUCTURED-LOCATION;VALUE=URI;X-ADDRESS=Mount Vernon SDA Church 230 S. Columbus Avenue Mount Vernon NY 10553 United States;X-APPLE-RADIUS=500;X-TITLE=230 S. Columbus Avenue:geo:-73.8219186,40.9086934
END:VEVENT
BEGIN:VEVENT
DTSTART;TZID=America/New_York:20270303T190000
DTEND;TZID=America/New_York:20270303T200000
DTSTAMP:20260424T093704
CREATED:20260220T044844Z
LAST-MODIFIED:20260220T044844Z
UID:10002585-1804100400-1804104000@mtvernonsda.org
SUMMARY:Worship on Wednesdays
DESCRIPTION:
URL:https://mtvernonsda.org/event/worship-on-wednesdays/2027-03-03/
ORGANIZER;CN="Mount Vernon SDA Church":MAILTO:mtvsecretary@hotmail.com
END:VEVENT
BEGIN:VEVENT
DTSTART;TZID=America/New_York:20270304T070000
DTEND;TZID=America/New_York:20270304T080000
DTSTAMP:20260424T093704
CREATED:20260220T050517Z
LAST-MODIFIED:20260220T050517Z
UID:10002851-1804143600-1804147200@mtvernonsda.org
SUMMARY:Weekly Men's Ministry Call
DESCRIPTION:
URL:https://mtvernonsda.org/event/weekly-mens-ministry-call/2027-03-04/
CATEGORIES:men's ministry
ATTACH;FMTTYPE=image/png:https://mtvernonsda.org/wp-content/uploads/full-2.png
ORGANIZER;CN="Mount Vernon SDA Church":MAILTO:mtvsecretary@hotmail.com
END:VEVENT
END:VCALENDAR